Back to the "Multiple platform build/check report"
| IMPORTANT NOTE: R was configured with --enable-strict-barrier on lamb1 |
| Package 93/247 | Hostname | OS | Arch | BUILD | CHECK | BUILD BIN |
GeneTS2.15.0Korbinian StrimmerLast Changed Date: 2007-04-24 11:31:42 -0700 Last Changed Rev: 24217 | lamb1 | Linux (SUSE 10.1) | x86_64 | OK | OK | |
| wellington | Linux (SUSE 9.2) | i686 | OK | OK | ||
| liverpool | Windows Server 2003 R2 (32-bit) | x64 | OK | OK | OK | |
| pitt | Mac OS X (10.4.10) | i386 | OK | OK | [ OK ] |
| Package: GeneTS |
| Version: 2.15.0 |
| Command: /Users/biocbuild/BBS/utils/build-universal.sh GeneTS_2.15.0.tar.gz /Library/Frameworks/R.framework/Resources/bin/R GeneTS.buildbin-libdir |
| RetCode: 0 |
| Time: 1.8 seconds |
| Status: OK |
| PackageFile: GeneTS_2.15.0.tgz |
INSTALLATION WITH 'R CMD INSTALL GeneTS_2.15.0.tar.gz'
* Installing to library 'GeneTS.buildbin-libdir'
* Installing *source* package 'GeneTS' ...
** R
No man pages found in package 'GeneTS'
** building package indices ...
* DONE (GeneTS)