Back to the "Multiple platform build/check report"
| IMPORTANT NOTE: R was configured with --enable-strict-barrier on lamb1 |
| Package 50/247 | Hostname | OS | Arch | BUILD | CHECK | BUILD BIN |
ChromoViz1.9.0Jihoon KimLast Changed Date: 2007-04-24 11:31:42 -0700 Last Changed Rev: 24217 | lamb1 | Linux (SUSE 10.1) | x86_64 | OK | WARNINGS | |
| wellington | Linux (SUSE 9.2) | i686 | OK | WARNINGS | ||
| liverpool | Windows Server 2003 R2 (32-bit) | x64 | OK | WARNINGS | OK | |
| pitt | Mac OS X (10.4.10) | i386 | [ OK ] | WARNINGS | OK |
| Package: ChromoViz |
| Version: 1.9.0 |
| Command: /Library/Frameworks/R.framework/Resources/bin/R CMD build ChromoViz |
| RetCode: 0 |
| Time: 0.8 seconds |
| Status: OK |
| PackageFile: ChromoViz_1.9.0.tar.gz |
* checking for file 'ChromoViz/DESCRIPTION' ... OK * preparing 'ChromoViz': * checking DESCRIPTION meta-information ... OK * removing junk files * checking for LF line-endings in source and make files * checking for empty or unneeded directories * building 'ChromoViz_1.9.0.tar.gz'