Back to the "Multiple platform build/check report"
| IMPORTANT NOTE: R was configured with --enable-strict-barrier on lamb1 |
| Package 48/247 | Hostname | OS | Arch | BUILD | CHECK | BUILD BIN |
CGHcall0.99.0Sjoerd VosseLast Changed Date: 2007-08-10 20:10:25 -0700 Last Changed Rev: 26321 | lamb1 | Linux (SUSE 10.1) | x86_64 | OK | OK | |
| wellington | Linux (SUSE 9.2) | i686 | [ OK ] | OK | ||
| liverpool | Windows Server 2003 R2 (32-bit) | x64 | OK | OK | OK | |
| pitt | Mac OS X (10.4.10) | i386 | OK | OK | OK |
| Package: CGHcall |
| Version: 0.99.0 |
| Command: /loc/biocbuild/bbs-2.1-bioc/R/bin/R CMD build CGHcall |
| RetCode: 0 |
| Time: 245.0 seconds |
| Status: OK |
| PackageFile: CGHcall_0.99.0.tar.gz |
* checking for file 'CGHcall/DESCRIPTION' ... OK
* preparing 'CGHcall':
* checking DESCRIPTION meta-information ... OK
* installing the package to re-build vignettes
* Installing *source* package 'CGHcall' ...
** R
** data
** inst
** preparing package for lazy loading
Loading required package: impute
Loading required package: DNAcopy
** help
>>> Building/Updating help pages for package 'CGHcall'
Formats: text html latex example
CGHcall-package text html latex
CGHcall text html latex example
Wilting text html latex
normalize text html latex example
plotProfile text html latex example
preprocess text html latex example
segmentData text html latex example
** building package indices ...
* DONE (CGHcall)
* creating vignettes ... OK
* removing junk files
* checking for LF line-endings in source files
* checking for empty or unneeded directories
* building 'CGHcall_0.99.0.tar.gz'