Back to the "Multiple platform build/check report"
| NOTES: (1) a maintainance reboot of lemming prevented these builds to complete on this machine (2) these are the last builds with R 2.6.0 (2007-06-03 r41797) on lamb1 and lemming, next builds will be with R 2.6.0 (2007-06-10 r41908) configured with --enable-strict-barrier |
| Package 176/238 | Hostname | OS | Arch | BUILD | CHECK | BUILD BIN |
puma1.3.0Richard PearsonLast Changed Date: 2007-06-10 10:22:32 -0700 Last Changed Rev: 25301 | lamb1 | Linux (SUSE 10.1) | x86_64 | OK | OK | |
| wellington | Linux (SUSE 9.2) | i686 | OK | OK | ||
| churchill | Solaris 2.9 | sparc | OK | OK | ||
| lemming | Windows Server 2003 (32-bit) | x64 | OK | ERROR | skipped |
| "http://www.w3.org/TR/xhtml1/DTD/xhtml1-strict.dtd"> |
Object not found! |
|
| The requested URL was not found on this server. |
| If you entered the URL manually please check your |
| spelling and try again. |
|
| If you think this is a server error, please contact |
| the webmaster. |
Error 404 |
| lamb1 |
| Mon Jun 11 01:34:51 2007 |
| Apache/2.2.0 (Linux/SUSE) |
<?xml version="1.0" encoding="ISO-8859-1"?>
<!DOCTYPE html PUBLIC "-//W3C//DTD XHTML 1.0 Strict//EN"
"http://www.w3.org/TR/xhtml1/DTD/xhtml1-strict.dtd">
<html xmlns="http://www.w3.org/1999/xhtml" lang="en" xml:lang="en">
<head>
<title>Object not found!</title>
<link rev="made" href="mailto:root@lamb1" />
<style type="text/css"><!--/*--><![CDATA[/*><!--*/
body { color: #000000; background-color: #FFFFFF; }
a:link { color: #0000CC; }
p, address {margin-left: 3em;}
span {font-size: smaller;}
/*]]>*/--></style>
</head>
<body>
<h1>Object not found!</h1>
<p>
The requested URL was not found on this server.
If you entered the URL manually please check your
spelling and try again.
</p>
<p>
If you think this is a server error, please contact
the <a href="mailto:root@lamb1">webmaster</a>.
</p>
<h2>Error 404</h2>
<address>
<a href="/">lamb1</a><br />
<span>Mon Jun 11 01:34:51 2007<br />
Apache/2.2.0 (Linux/SUSE)</span>
</address>
</body>
</html>