Back to the "Multiple platform build/check report"
| Package 234/234 | Hostname | OS | Arch | BUILD | CHECK | BUILD BIN |
xcms1.9.1Colin A. SmithLast Changed Date: 2007-05-15 01:50:00 -0700 Last Changed Rev: 24657 | lamb1 | Linux (SUSE 10.1) | x86_64 | [ OK ] | OK | |
| wellington | Linux (SUSE 9.2) | i686 | OK | ERROR | ||
| churchill | Solaris 2.9 | sparc | ERROR | skipped | ||
| lemming | Windows Server 2003 (32-bit) | x64 | OK | OK | OK |
| Package: xcms |
| Version: 1.9.1 |
| Command: /home/biocbuild/bbs-2.1-bioc/R/bin/R CMD build xcms |
| RetCode: 0 |
| Time: 65.5 seconds |
| Status: OK |
| PackageFile: xcms_1.9.1.tar.gz |
* checking for file 'xcms/DESCRIPTION' ... OK
* preparing 'xcms':
* checking DESCRIPTION meta-information ... OK
* cleaning src
* installing the package to re-build vignettes
* Installing *source* package 'xcms' ...
** libs
gcc -std=gnu99 -I/home/biocbuild/bbs-2.1-bioc/R/include -I/home/biocbuild/bbs-2.1-bioc/R/include -I/usr/local/include -I/sw/include -D_LARGEFILE_SOURCE -I/usr/local/include -fpic -g -O2 -Wall -c base64.c -o base64.o
base64.c:18: warning: 'encode_group' defined but not used
base64.c:46: warning: 'decode_group' defined but not used
gcc -std=gnu99 -I/home/biocbuild/bbs-2.1-bioc/R/include -I/home/biocbuild/bbs-2.1-bioc/R/include -I/usr/local/include -I/sw/include -D_LARGEFILE_SOURCE -I/usr/local/include -fpic -g -O2 -Wall -c mzboxes.c -o mzboxes.o
gcc -std=gnu99 -I/home/biocbuild/bbs-2.1-bioc/R/include -I/home/biocbuild/bbs-2.1-bioc/R/include -I/usr/local/include -I/sw/include -D_LARGEFILE_SOURCE -I/usr/local/include -fpic -g -O2 -Wall -c netCDF.c -o netCDF.o
gcc -std=gnu99 -I/home/biocbuild/bbs-2.1-bioc/R/include -I/home/biocbuild/bbs-2.1-bioc/R/include -I/usr/local/include -I/sw/include -D_LARGEFILE_SOURCE -I/usr/local/include -fpic -g -O2 -Wall -O1 -c ramp.c -o ramp.o
ramp.c: In function 'readPeaks':
ramp.c:1519: warning: 'multiplier' may be used uninitialized in this function
ramp.c:1518: warning: 'deltaMass' may be used uninitialized in this function
ramp.c:1517: warning: 'lastMass' may be used uninitialized in this function
gcc -std=gnu99 -I/home/biocbuild/bbs-2.1-bioc/R/include -I/home/biocbuild/bbs-2.1-bioc/R/include -I/usr/local/include -I/sw/include -D_LARGEFILE_SOURCE -I/usr/local/include -fpic -g -O2 -Wall -c rampR.c -o rampR.o
gcc -std=gnu99 -I/home/biocbuild/bbs-2.1-bioc/R/include -I/home/biocbuild/bbs-2.1-bioc/R/include -I/usr/local/include -I/sw/include -D_LARGEFILE_SOURCE -I/usr/local/include -fpic -g -O2 -Wall -c util.c -o util.o
gcc -std=gnu99 -I/home/biocbuild/bbs-2.1-bioc/R/include -I/home/biocbuild/bbs-2.1-bioc/R/include -I/usr/local/include -I/sw/include -D_LARGEFILE_SOURCE -I/usr/local/include -fpic -g -O2 -Wall -c xcms.c -o xcms.o
xcms.c: In function 'ProfBinLin':
xcms.c:11: warning: 'ypre' may be used uninitialized in this function
xcms.c:11: warning: 'xpre' may be used uninitialized in this function
xcms.c: In function 'ProfBinLinBase':
xcms.c:62: warning: 'ipre' may be used uninitialized in this function
gcc -std=gnu99 -shared -L/usr/local/lib64 -o xcms.so base64.o mzboxes.o netCDF.o ramp.o rampR.o util.o xcms.o -L/usr/local/lib -L/sw/lib -lnetcdf -lz -L/home/biocbuild/bbs-2.1-bioc/R/lib -lR
** R
** inst
** preparing package for lazy loading
** help
>>> Building/Updating help pages for package 'xcms'
Formats: text html latex example
SSgauss text html latex
c.xcmsSet text html latex
colMax text html latex
descendZero text html latex example
diffreport-methods text html latex
doubleMatrix text html latex
etg text html latex
fillPeaks-methods text html latex
filtfft text html latex
findEqualGreater text html latex
findMZBoxes-methods text html latex
findPeaks-methods text html latex
findPeaks.centWave-methods text html latex
findPeaks.matchedFilter-methods text html latex
getEIC-methods text html latex
getPeaks-methods text html latex
getScan-methods text html latex
getSpec-methods text html latex
group-methods text html latex
groupnames-methods text html latex
groupval-methods text html latex
image.xcmsRaw text html latex
medianFilter text html latex example
na.flatfill text html latex
netCDF text html latex
panel.cor text html latex
plot.xcmsEIC text html latex
plotChrom-methods text html latex
plotPeaks-methods text html latex
plotRaw-methods text html latex
plotScan-methods text html latex
plotSpec-methods text html latex
plotSurf-methods text html latex
plotTIC-methods text html latex
plotrt-methods text html latex
profGenerate text html latex
profMedFilt-methods text html latex
profMethod-methods text html latex
profRange-methods text html latex
profStep-methods text html latex
pval text html latex
ramp text html latex
rawEIC-methods text html latex
rectUnique text html latex example
retcor-methods text html latex
retexp text html latex
sampnames-methods text html latex
specNoise text html latex
specPeaks text html latex
split.xcmsSet text html latex
xcmsEIC-class text html latex
xcmsRaw-class text html latex
xcmsRaw text html latex
xcmsSet-class text html latex
xcmsSet text html latex
** building package indices ...
* DONE (xcms)
* creating vignettes ... OK
* cleaning src
* removing junk files
* checking for LF line-endings in source files
* checking for empty or unneeded directories
* building 'xcms_1.9.1.tar.gz'