Back to the "Multiple platform build/check report"
| Package 233/234 | Hostname | OS | Arch | BUILD | CHECK | BUILD BIN |
widgetTools1.13.1Jianhua ZhangLast Changed Date: 2007-05-15 20:37:53 -0700 Last Changed Rev: 24694 | lamb1 | Linux (SUSE 10.1) | x86_64 | OK | OK | |
| wellington | Linux (SUSE 9.2) | i686 | OK | OK | ||
| churchill | Solaris 2.9 | sparc | OK | OK | ||
| lemming | Windows Server 2003 (32-bit) | x64 | OK | OK | [ OK ] |
| Package: widgetTools |
| Version: 1.13.1 |
| Command: D:\biocbld\bbs-2.1-bioc\R\bin\R.exe CMD INSTALL --build --library=widgetTools.buildbin-libdir widgetTools_1.13.1.tar.gz |
| RetCode: 0 |
| Time: 12.0 seconds |
| Status: OK |
| PackageFile: widgetTools_1.13.1.zip |
installing R.css in D:/biocbld/bbs-2.1-bioc/meat/widgetTools.buildbin-libdir
Using auto-selected zip options ''
---------- Making package widgetTools ------------
adding build stamp to DESCRIPTION
installing NAMESPACE file and metadata
installing R files
installing inst files
installing man source files
installing indices
installing help
>>> Building/Updating help pages for package 'widgetTools'
Formats: text html latex example chm
basicPW-class text html latex example chm
button text html latex example chm
dropdownList text html latex example chm
makeViewer text html latex example chm
oneVScrList text html latex example chm
safeFileOpen text html latex example chm
tooltip text html latex example chm
widget-class text html latex example chm
widgetView-class text html latex example chm
writeText text html latex example chm
Microsoft HTML Help Compiler 4.74.8702
Compiling d:\biocbld\bbs-2.1-bioc\meat\R.INSTALL.3496\widgetTools\chm\widgetTools.chm
Compile time: 0 minutes, 0 seconds
11 Topics
149 Local links
0 Internet links
1 Graphic
Created d:\biocbld\bbs-2.1-bioc\meat\R.INSTALL.3496\widgetTools\chm\widgetTools.chm, 40,352 bytes
Compression decreased file by 55,623 bytes.
preparing package widgetTools for lazy loading
Loading required package: tcltk
Loading Tcl/Tk interface ... done
adding MD5 sums
packaged installation of package 'widgetTools' as widgetTools_1.13.1.zip
* DONE (widgetTools)