Back to the "Multiple platform build/check report"
| Package 229/234 | Hostname | OS | Arch | BUILD | CHECK | BUILD BIN |
vsn2.3.2Wolfgang HuberLast Changed Date: 2007-05-15 14:46:52 -0700 Last Changed Rev: 24675 | lamb1 | Linux (SUSE 10.1) | x86_64 | OK | OK | |
| wellington | Linux (SUSE 9.2) | i686 | OK | OK | ||
| churchill | Solaris 2.9 | sparc | OK | OK | ||
| lemming | Windows Server 2003 (32-bit) | x64 | OK | OK | [ OK ] |
| Package: vsn |
| Version: 2.3.2 |
| Command: D:\biocbld\bbs-2.1-bioc\R\bin\R.exe CMD INSTALL --build --library=vsn.buildbin-libdir vsn_2.3.2.tar.gz |
| RetCode: 0 |
| Time: 17.0 seconds |
| Status: OK |
| PackageFile: vsn_2.3.2.zip |
installing R.css in D:/biocbld/bbs-2.1-bioc/meat/vsn.buildbin-libdir
Using auto-selected zip options 'vsn-ZIPDATA=zip'
---------- Making package vsn ------------
adding build stamp to DESCRIPTION
installing NAMESPACE file and metadata
making DLL ...
making init.d from init.c
making vsn.d from vsn.c
making vsn2.d from vsn2.c
gcc -ID:/biocbld/bbs-2.1-bioc/R/include -Wall -O3 -std=gnu99 -c init.c -o init.o
gcc -ID:/biocbld/bbs-2.1-bioc/R/include -Wall -O3 -std=gnu99 -c vsn.c -o vsn.o
gcc -ID:/biocbld/bbs-2.1-bioc/R/include -Wall -O3 -std=gnu99 -c vsn2.c -o vsn2.o
vsn2.c: In function `vsn2_trsf':
vsn2.c:445: warning: unused variable `dimy'
windres -I D:/biocbld/bbs-2.1-bioc/R/include -i vsn_res.rc -o vsn_res.o
gcc -shared -s -o vsn.dll vsn.def init.o vsn.o vsn2.o vsn_res.o -LD:/biocbld/bbs-2.1-bioc/R/bin -lR
... DLL made
installing DLL
installing R files
installing inst files
installing data files
installing man source files
installing indices
zipping data
installing help
>>> Building/Updating help pages for package 'vsn'
Formats: text html latex example chm
class.vsn text html latex example chm
class.vsnInput text html latex example chm
getIntensityMatrix text html latex example chm
justvsn text html latex example chm
kidney text html latex example chm
lymphoma text html latex example chm
meanSdPlot text html latex example chm
normalize.AffyBatch.vsn text html latex example chm
sagmbSimulateData text html latex example chm
vsn text html latex example chm
vsn2 text html latex example chm
vsn2trsf text html latex example chm
vsnLikelihood text html latex example chm
vsnPlotPar text html latex example chm
vsnh text html latex example chm
Microsoft HTML Help Compiler 4.74.8702
Compiling d:\biocbld\bbs-2.1-bioc\meat\R.INSTALL.5412\vsn\chm\vsn.chm
Compile time: 0 minutes, 0 seconds
16 Topics
123 Local links
13 Internet links
1 Graphic
Created d:\biocbld\bbs-2.1-bioc\meat\R.INSTALL.5412\vsn\chm\vsn.chm, 48,208 bytes
Compression decreased file by 37,515 bytes.
preparing package vsn for lazy loading
Loading required package: Biobase
Loading required package: tools
Welcome to Bioconductor
Vignettes contain introductory material. To view, type
'openVignette()'. To cite Bioconductor, see
'citation("Biobase")' and for packages 'citation(pkgname)'.
Loading required package: affy
Loading required package: affyio
Loading required package: limma
Creating a new generic function for "logLik" in "vsn"
adding MD5 sums
packaged installation of package 'vsn' as vsn_2.3.2.zip
* DONE (vsn)