Back to the "Multiple platform build/check report"
| Package 224/234 | Hostname | OS | Arch | BUILD | CHECK | BUILD BIN |
timecourse1.7.1Yu Chuan TaiLast Changed Date: 2007-05-19 09:45:12 -0700 Last Changed Rev: 24836 | lamb1 | Linux (SUSE 10.1) | x86_64 | OK | OK | |
| wellington | Linux (SUSE 9.2) | i686 | OK | OK | ||
| churchill | Solaris 2.9 | sparc | OK | OK | ||
| lemming | Windows Server 2003 (32-bit) | x64 | OK | [ OK ] | OK |
| Package: timecourse |
| Version: 1.7.1 |
| Command: D:\biocbld\bbs-2.1-bioc\R\bin\R.exe CMD check timecourse_1.7.1.tar.gz |
| RetCode: 0 |
| Time: 152.3 seconds |
| Status: OK |
| CheckDir: timecourse.Rcheck |
| Warnings: 0 |
* checking for working latex ... OK * using log directory 'D:/biocbld/bbs-2.1-bioc/meat/timecourse.Rcheck' * using R version 2.6.0 Under development (unstable) (2007-04-17 r41210) * checking for file 'timecourse/DESCRIPTION' ... OK * this is package 'timecourse' version '1.7.1' * checking package dependencies ... OK * checking if this is a source package ... OK * checking whether package 'timecourse' can be installed ... OK * checking package directory ... OK * checking for portable file names ... OK * checking DESCRIPTION meta-information ... OK * checking top-level files ... OK * checking index information ... OK * checking package subdirectories ... OK * checking R files for non-ASCII characters ... OK * checking R files for syntax errors ... OK * checking whether the package can be loaded ... OK * checking whether the package can be loaded with stated dependencies ... OK * checking for unstated dependencies in R code ... OK * checking S3 generic/method consistency ... OK * checking replacement functions ... OK * checking foreign function calls ... OK * checking R code for possible problems ... OK * checking Rd files ... OK * checking Rd cross-references ... OK * checking for missing documentation entries ... OK * checking for code/documentation mismatches ... OK * checking Rd \usage sections ... OK * checking data for non-ASCII characters ... OK * creating timecourse-Ex.R ... OK * checking examples ... OK * checking package vignettes in 'inst/doc' ... OK * creating timecourse-manual.tex ... OK * checking timecourse-manual.tex ... OK
timecourse.Rcheck/00install.out:
installing R.css in D:/biocbld/bbs-2.1-bioc/meat/timecourse.Rcheck
---------- Making package timecourse ------------
adding build stamp to DESCRIPTION
installing R files
installing inst files
installing data files
installing man source files
installing indices
not zipping data
installing help
>>> Building/Updating help pages for package 'timecourse'
Formats: text html latex example chm
abs2ratio text html latex chm
fruitfly text html latex chm
marrayTC-class text html latex chm
matrix.cov text html latex chm
mb.MANOVA text html latex example chm
mb.long text html latex example chm
ot.helmert text html latex chm
plotProfile text html latex chm
univ.func text html latex chm
Microsoft HTML Help Compiler 4.74.8702
Compiling d:\biocbld\bbs-2.1-bioc\meat\timecourse.Rcheck\00_pkg_src\timecourse\chm\timecourse.chm
Compile time: 0 minutes, 0 seconds
10 Topics
27 Local links
2 Internet links
1 Graphic
Created d:\biocbld\bbs-2.1-bioc\meat\timecourse.Rcheck\00_pkg_src\timecourse\chm\timecourse.chm, 34,969 bytes
Compression decreased file by 16,327 bytes.
preparing package timecourse for lazy loading
Loading required package: limma
Loading required package: MASS
Loading required package: Biobase
Loading required package: tools
Welcome to Bioconductor
Vignettes contain introductory material. To view, type
'openVignette()'. To cite Bioconductor, see
'citation("Biobase")' and for packages 'citation(pkgname)'.
adding MD5 sums
* DONE (timecourse)