Back to the "Multiple platform build/check report"
| Package 169/234 | Hostname | OS | Arch | BUILD | CHECK | BUILD BIN |
prada1.13.1Florian HahneLast Changed Date: 2007-05-11 21:56:41 -0700 Last Changed Rev: 24616 | lamb1 | Linux (SUSE 10.1) | x86_64 | ERROR | skipped | |
| wellington | Linux (SUSE 9.2) | i686 | ERROR | skipped | ||
| churchill | Solaris 2.9 | sparc | ERROR | skipped | ||
| lemming | Windows Server 2003 (32-bit) | x64 | OK | OK | [ OK ] |
| Package: prada |
| Version: 1.13.1 |
| Command: D:\biocbld\bbs-2.1-bioc\R\bin\R.exe CMD INSTALL --build --library=prada.buildbin-libdir prada_1.13.1.tar.gz |
| RetCode: 0 |
| Time: 21.0 seconds |
| Status: OK |
| PackageFile: prada_1.13.1.zip |
installing R.css in D:/biocbld/bbs-2.1-bioc/meat/prada.buildbin-libdir
Using auto-selected zip options 'prada-ZIPDATA=zip prada-HELP=ziponly'
---------- Making package prada ------------
adding build stamp to DESCRIPTION
installing NAMESPACE file and metadata
making DLL ...
making inPolygon.d from inPolygon.c
gcc -ID:/biocbld/bbs-2.1-bioc/R/include -Wall -O3 -std=gnu99 -c inPolygon.c -o inPolygon.o
windres -I D:/biocbld/bbs-2.1-bioc/R/include -i prada_res.rc -o prada_res.o
gcc -shared -s -o prada.dll prada.def inPolygon.o prada_res.o -LD:/biocbld/bbs-2.1-bioc/R/bin -lR
... DLL made
installing DLL
installing R files
installing inst files
installing data files
installing man source files
installing indices
Loading required package: methods
KernSmooth 2.22 installed
Copyright M. P. Wand 1997
zipping data
installing help
>>> Building/Updating help pages for package 'prada'
Formats: text html latex example chm
analysePlate text html latex example chm
as.all text html latex example chm
barploterrbar text html latex example chm
combineFrames text html latex example chm
csApply text html latex example chm
cytoFrame-class text html latex example chm
cytoSet-class text html latex example chm
data-cytoFrame text html latex example chm
data-cytoSet text html latex example chm
devDims text html latex example chm
devRes text html latex example chm
fitNorm2 text html latex example chm
gate-class text html latex example chm
gateSet-class text html latex example chm
getPradaPar text html latex example chm
new-internal text html latex chm
plotNorm2 text html latex example chm
plotPlate text html latex example chm
readCytoSet text html latex example chm
readFCS text html latex example chm
readFCSaux text html latex example chm
removeCensored text html latex example chm
tcltkProgress text html latex example chm
threePanelPlot text html latex example chm
thresholds text html latex example chm
touchFCS text html latex chm
vpLocation text html latex example chm
zipping help files
Microsoft HTML Help Compiler 4.74.8702
Compiling d:\biocbld\bbs-2.1-bioc\meat\R.INSTALL.6068\prada\chm\prada.chm
Compile time: 0 minutes, 0 seconds
28 Topics
180 Local links
11 Internet links
1 Graphic
Created d:\biocbld\bbs-2.1-bioc\meat\R.INSTALL.6068\prada\chm\prada.chm, 58,424 bytes
Compression decreased file by 73,605 bytes.
preparing package prada for lazy loading
Loading required package: Biobase
Loading required package: tools
Welcome to Bioconductor
Vignettes contain introductory material. To view, type
'openVignette()'. To cite Bioconductor, see
'citation("Biobase")' and for packages 'citation(pkgname)'.
Loading required package: RColorBrewer
Loading required package: grid
KernSmooth 2.22 installed
Copyright M. P. Wand 1997
adding MD5 sums
packaged installation of package 'prada' as prada_1.13.1.zip
* DONE (prada)