Back to the "Multiple platform build/check report"
| Package 165/234 | Hostname | OS | Arch | BUILD | CHECK | BUILD BIN |
pkgDepTools1.3.0Seth FalconLast Changed Date: 2007-04-24 11:31:42 -0700 Last Changed Rev: 24217 | lamb1 | Linux (SUSE 10.1) | x86_64 | OK | OK | |
| wellington | Linux (SUSE 9.2) | i686 | OK | OK | ||
| churchill | Solaris 2.9 | sparc | ERROR | skipped | ||
| lemming | Windows Server 2003 (32-bit) | x64 | OK | OK | [ OK ] |
| Package: pkgDepTools |
| Version: 1.3.0 |
| Command: D:\biocbld\bbs-2.1-bioc\R\bin\R.exe CMD INSTALL --build --library=pkgDepTools.buildbin-libdir pkgDepTools_1.3.0.tar.gz |
| RetCode: 0 |
| Time: 11.0 seconds |
| Status: OK |
| PackageFile: pkgDepTools_1.3.0.zip |
installing R.css in D:/biocbld/bbs-2.1-bioc/meat/pkgDepTools.buildbin-libdir
Using auto-selected zip options ''
---------- Making package pkgDepTools ------------
adding build stamp to DESCRIPTION
installing NAMESPACE file and metadata
installing R files
installing inst files
installing man source files
installing indices
installing help
>>> Building/Updating help pages for package 'pkgDepTools'
Formats: text html latex example chm
basicInstallOrder text html latex chm
cleanPkgField text html latex chm
getDownloadSize text html latex chm
getInstallOrder text html latex chm
makeDepGraph text html latex example chm
makePkgUrl text html latex chm
parseContentLength text html latex chm
pkgDepTools-package text html latex chm
Microsoft HTML Help Compiler 4.74.8702
Compiling d:\biocbld\bbs-2.1-bioc\meat\R.INSTALL.4928\pkgDepTools\chm\pkgDepTools.chm
Compile time: 0 minutes, 0 seconds
9 Topics
17 Local links
0 Internet links
1 Graphic
Created d:\biocbld\bbs-2.1-bioc\meat\R.INSTALL.4928\pkgDepTools\chm\pkgDepTools.chm, 21,934 bytes
Compression decreased file by 598 bytes.
preparing package pkgDepTools for lazy loading
Loading required package: graph
Loading required package: Biobase
Loading required package: tools
Welcome to Bioconductor
Vignettes contain introductory material. To view, type
'openVignette()'. To cite Bioconductor, see
'citation("Biobase")' and for packages 'citation(pkgname)'.
Loading required package: RBGL
adding MD5 sums
packaged installation of package 'pkgDepTools' as pkgDepTools_1.3.0.zip
* DONE (pkgDepTools)