Back to the "Multiple platform build/check report"
| Package 164/234 | Hostname | OS | Arch | BUILD | CHECK | BUILD BIN | 
| pickgene1.9.0Brian S. YandellLast Changed Date: 2007-04-24 11:31:42 -0700 Last Changed Rev: 24217 | lamb1 | Linux (SUSE 10.1) | x86_64 | OK | OK | |
| wellington | Linux (SUSE 9.2) | i686 | OK | OK | ||
| churchill | Solaris 2.9 | sparc | OK | OK | ||
| lemming | Windows Server 2003 (32-bit) | x64 | [ OK ] | OK | OK | 
| Package: pickgene | 
| Version: 1.9.0 | 
| Command: D:\biocbld\bbs-2.1-bioc\R\bin\R.exe CMD build pickgene | 
| RetCode: 0 | 
| Time: 15.3 seconds | 
| Status: OK | 
| PackageFile: pickgene_1.9.0.tar.gz | 
* checking for file 'pickgene/DESCRIPTION' ... OK
* preparing 'pickgene':
* checking DESCRIPTION meta-information ... OK
* checking whether 'INDEX' is up-to-date ... NO
* use '--force' to overwrite the existing 'INDEX'
* installing the package to re-build vignettes
installing R.css in D:/biocbld/bbs-2.1-bioc/tmpdir/Rinst595679864
---------- Making package pickgene ------------
  adding build stamp to DESCRIPTION
  installing R files
  installing inst files
  installing man source files
  installing indices
  installing help
 >>> Building/Updating help pages for package 'pickgene'
     Formats: text html latex example chm 
  Simulation.pickgene               text    html    latex   example chm
  em.ggb                            text    html    latex   example chm
  model.pickgene                    text    html    latex   example chm
  oddsplot                          text    html    latex   example chm
  pickgene-internal                 text    html    latex           chm
  pickgene                          text    html    latex   example chm
  robustscale                       text    html    latex   example chm
Microsoft HTML Help Compiler 4.74.8702
Compiling d:\biocbld\bbs-2.1-bioc\meat\pickgene\chm\pickgene.chm
Compile time: 0 minutes, 0 seconds
8	Topics
16	Local links
0	Internet links
1	Graphic
Created d:\biocbld\bbs-2.1-bioc\meat\pickgene\chm\pickgene.chm, 30,579 bytes
Compression decreased file by 11,518 bytes.
  preparing package pickgene for lazy loading
Loading required package: MASS
  adding MD5 sums
* DONE (pickgene)
* creating vignettes ... OK
* removing junk files
* checking for LF line-endings in source files
* checking for empty or unneeded directories
* building 'pickgene_1.9.0.tar.gz'