Back to the "Multiple platform build/check report"
| Package 141/234 | Hostname | OS | Arch | BUILD | CHECK | BUILD BIN |
multtest1.15.1Katherine S. PollardLast Changed Date: 2007-04-27 13:39:02 -0700 Last Changed Rev: 24349 | lamb1 | Linux (SUSE 10.1) | x86_64 | OK | WARNINGS | |
| wellington | Linux (SUSE 9.2) | i686 | [ OK ] | OK | ||
| churchill | Solaris 2.9 | sparc | OK | OK | ||
| lemming | Windows Server 2003 (32-bit) | x64 | OK | OK | OK |
| Package: multtest |
| Version: 1.15.1 |
| Command: /loc/biocbuild/bbs-2.1-bioc/R/bin/R CMD build multtest |
| RetCode: 0 |
| Time: 2.8 seconds |
| Status: OK |
| PackageFile: multtest_1.15.1.tar.gz |
* checking for file 'multtest/DESCRIPTION' ... OK
* preparing 'multtest':
* checking DESCRIPTION meta-information ... OK
* cleaning src
* checking whether 'INDEX' is up-to-date ... NO
* use '--force' to overwrite the existing 'INDEX'
* removing junk files
* checking for LF line-endings in source files
file 'multtest/src/block_sampling_fixed.c' had CRLF line endings
* checking for empty or unneeded directories
* building 'multtest_1.15.1.tar.gz'