Back to the "Multiple platform build/check report"
| Package 112/234 | Hostname | OS | Arch | BUILD | CHECK | BUILD BIN |
lapmix1.3.0Yann RuffieuxLast Changed Date: 2007-04-24 11:31:42 -0700 Last Changed Rev: 24217 | lamb1 | Linux (SUSE 10.1) | x86_64 | OK | OK | |
| wellington | Linux (SUSE 9.2) | i686 | OK | OK | ||
| churchill | Solaris 2.9 | sparc | OK | OK | ||
| lemming | Windows Server 2003 (32-bit) | x64 | OK | OK | [ OK ] |
| Package: lapmix |
| Version: 1.3.0 |
| Command: D:\biocbld\bbs-2.1-bioc\R\bin\R.exe CMD INSTALL --build --library=lapmix.buildbin-libdir lapmix_1.3.0.tar.gz |
| RetCode: 0 |
| Time: 7.0 seconds |
| Status: OK |
| PackageFile: lapmix_1.3.0.zip |
installing R.css in D:/biocbld/bbs-2.1-bioc/meat/lapmix.buildbin-libdir
Using auto-selected zip options ''
---------- Making package lapmix ------------
adding build stamp to DESCRIPTION
installing R files
installing inst files
installing man source files
installing indices
installing help
>>> Building/Updating help pages for package 'lapmix'
Formats: text html latex example chm
lap.volcanoplot text html latex example chm
lapmix-internal text html latex chm
lapmix.Fit text html latex example chm
laptopTable text html latex example chm
Microsoft HTML Help Compiler 4.74.8702
Compiling d:\biocbld\bbs-2.1-bioc\meat\R.INSTALL.3296\lapmix\chm\lapmix.chm
Compile time: 0 minutes, 0 seconds
5 Topics
7 Local links
0 Internet links
1 Graphic
Created d:\biocbld\bbs-2.1-bioc\meat\R.INSTALL.3296\lapmix\chm\lapmix.chm, 21,905 bytes
Compression increased file by 4,211 bytes.
adding MD5 sums
packaged installation of package 'lapmix' as lapmix_1.3.0.zip
* DONE (lapmix)