Back to the "Multiple platform build/check report"
| Package 108/234 | Hostname | OS | Arch | BUILD | CHECK | BUILD BIN |
impute1.9.0Balasubramanian NarasimhanLast Changed Date: 2007-04-24 11:31:42 -0700 Last Changed Rev: 24217 | lamb1 | Linux (SUSE 10.1) | x86_64 | OK | OK | |
| wellington | Linux (SUSE 9.2) | i686 | OK | OK | ||
| churchill | Solaris 2.9 | sparc | OK | OK | ||
| lemming | Windows Server 2003 (32-bit) | x64 | OK | OK | [ OK ] |
| Package: impute |
| Version: 1.9.0 |
| Command: D:\biocbld\bbs-2.1-bioc\R\bin\R.exe CMD INSTALL --build --library=impute.buildbin-libdir impute_1.9.0.tar.gz |
| RetCode: 0 |
| Time: 10.0 seconds |
| Status: OK |
| PackageFile: impute_1.9.0.zip |
installing R.css in D:/biocbld/bbs-2.1-bioc/meat/impute.buildbin-libdir
Using auto-selected zip options 'impute-ZIPDATA=zip'
---------- Making package impute ------------
adding build stamp to DESCRIPTION
installing NAMESPACE file and metadata
making DLL ...
g77 -O3 -Wall -c knnimpute.f -o knnimpute.o
knnimpute.f: In subroutine `twomis':
In file included from knnimpute.f:0:
knnimpute.f:132: warning: 'dold' might be used uninitialized in this function
windres -I D:/biocbld/bbs-2.1-bioc/R/include -i impute_res.rc -o impute_res.o
gcc -shared -s -o impute.dll impute.def knnimpute.o impute_res.o -LD:/biocbld/bbs-2.1-bioc/R/bin -lg2c -lR
... DLL made
installing DLL
installing R files
installing data files
installing man source files
installing indices
zipping data
installing help
>>> Building/Updating help pages for package 'impute'
Formats: text html latex example chm
impute.knn text html latex example chm
khanmiss text html latex example chm
Microsoft HTML Help Compiler 4.74.8702
Compiling d:\biocbld\bbs-2.1-bioc\meat\R.INSTALL.4208\impute\chm\impute.chm
Compile time: 0 minutes, 0 seconds
3 Topics
4 Local links
0 Internet links
1 Graphic
Created d:\biocbld\bbs-2.1-bioc\meat\R.INSTALL.4208\impute\chm\impute.chm, 21,663 bytes
Compression increased file by 7,992 bytes.
adding MD5 sums
packaged installation of package 'impute' as impute_1.9.0.zip
* DONE (impute)