Back to the "Multiple platform build/check report"
| Package 105/234 | Hostname | OS | Arch | BUILD | CHECK | BUILD BIN |
hypergraph1.9.0Seth FalconLast Changed Date: 2007-05-11 21:56:41 -0700 Last Changed Rev: 24616 | lamb1 | Linux (SUSE 10.1) | x86_64 | OK | WARNINGS | |
| wellington | Linux (SUSE 9.2) | i686 | OK | OK | ||
| churchill | Solaris 2.9 | sparc | OK | OK | ||
| lemming | Windows Server 2003 (32-bit) | x64 | OK | [ OK ] | OK |
| Package: hypergraph |
| Version: 1.9.0 |
| Command: D:\biocbld\bbs-2.1-bioc\R\bin\R.exe CMD check hypergraph_1.9.0.tar.gz |
| RetCode: 0 |
| Time: 61.9 seconds |
| Status: OK |
| CheckDir: hypergraph.Rcheck |
| Warnings: 0 |
* checking for working latex ... OK * using log directory 'D:/biocbld/bbs-2.1-bioc/meat/hypergraph.Rcheck' * using R version 2.6.0 Under development (unstable) (2007-04-17 r41210) * checking for file 'hypergraph/DESCRIPTION' ... OK * this is package 'hypergraph' version '1.9.0' * checking package dependencies ... OK * checking if this is a source package ... OK * checking whether package 'hypergraph' can be installed ... OK * checking package directory ... OK * checking for portable file names ... OK * checking DESCRIPTION meta-information ... OK * checking top-level files ... OK * checking index information ... OK * checking package subdirectories ... OK * checking R files for non-ASCII characters ... OK * checking R files for syntax errors ... OK * checking whether the package can be loaded ... OK * checking whether the package can be loaded with stated dependencies ... OK * checking whether the name space can be loaded with stated dependencies ... OK * checking for unstated dependencies in R code ... OK * checking S3 generic/method consistency ... OK * checking replacement functions ... OK * checking foreign function calls ... OK * checking R code for possible problems ... OK * checking Rd files ... OK * checking Rd cross-references ... OK * checking for missing documentation entries ... OK * checking for code/documentation mismatches ... OK * checking Rd \usage sections ... OK * creating hypergraph-Ex.R ... OK * checking examples ... OK * creating hypergraph-manual.tex ... OK * checking hypergraph-manual.tex ... OK
hypergraph.Rcheck/00install.out:
installing R.css in D:/biocbld/bbs-2.1-bioc/meat/hypergraph.Rcheck
---------- Making package hypergraph ------------
adding build stamp to DESCRIPTION
installing NAMESPACE file and metadata
installing R files
installing inst files
installing man source files
installing indices
installing help
>>> Building/Updating help pages for package 'hypergraph'
Formats: text html latex example chm
DirectedHyperedge-class text html latex example chm
DirectedHyperedge text html latex chm
Hyperedge-class text html latex example chm
Hyperedge text html latex chm
Hypergraph-class text html latex example chm
Hypergraph text html latex chm
kCores text html latex example chm
l2hel text html latex example chm
vCover text html latex example chm
Microsoft HTML Help Compiler 4.74.8702
Compiling d:\biocbld\bbs-2.1-bioc\meat\hypergraph.Rcheck\00_pkg_src\hypergraph\chm\hypergraph.chm
Compile time: 0 minutes, 0 seconds
10 Topics
75 Local links
0 Internet links
1 Graphic
Created d:\biocbld\bbs-2.1-bioc\meat\hypergraph.Rcheck\00_pkg_src\hypergraph\chm\hypergraph.chm, 24,505 bytes
Compression decreased file by 14,677 bytes.
preparing package hypergraph for lazy loading
Loading required package: graph
Loading required package: Biobase
Loading required package: tools
Welcome to Bioconductor
Vignettes contain introductory material. To view, type
'openVignette()'. To cite Bioconductor, see
'citation("Biobase")' and for packages 'citation(pkgname)'.
adding MD5 sums
* DONE (hypergraph)