Back to the "Multiple platform build/check report"
| Package 71/234 | Hostname | OS | Arch | BUILD | CHECK | BUILD BIN |
flowUtils0.2.2Florian HahneLast Changed Date: 2007-03-05 09:16:51 -0800 Last Changed Rev: 22956 | lamb1 | Linux (SUSE 10.1) | x86_64 | OK | [ OK ] | |
| wellington | Linux (SUSE 9.2) | i686 | OK | OK | ||
| churchill | Solaris 2.9 | sparc | OK | ERROR | ||
| lemming | Windows Server 2003 (32-bit) | x64 | OK | OK | OK |
| Package: flowUtils |
| Version: 0.2.2 |
| Command: /home/biocbuild/bbs-2.1-bioc/R/bin/R CMD check flowUtils_0.2.2.tar.gz |
| RetCode: 0 |
| Time: 33.2 seconds |
| Status: OK |
| CheckDir: flowUtils.Rcheck |
| Warnings: 0 |
* checking for working latex ... OK * using log directory '/home/biocbuild/bbs-2.1-bioc/meat/flowUtils.Rcheck' * using R version 2.6.0 Under development (unstable) (2007-05-03 r41426) * checking for file 'flowUtils/DESCRIPTION' ... OK * checking extension type ... Package * this is package 'flowUtils' version '0.2.2' * checking package name space information ... OK * checking package dependencies ... OK * checking if this is a source package ... OK * checking whether package 'flowUtils' can be installed ... OK * checking package directory ... OK * checking for portable file names ... OK * checking for sufficient/correct file permissions ... OK * checking DESCRIPTION meta-information ... OK * checking top-level files ... OK * checking index information ... OK * checking package subdirectories ... OK * checking R files for non-ASCII characters ... OK * checking R files for syntax errors ... OK * checking whether the package can be loaded ... OK * checking whether the package can be loaded with stated dependencies ... OK * checking whether the name space can be loaded with stated dependencies ... OK * checking for unstated dependencies in R code ... OK * checking S3 generic/method consistency ... OK * checking replacement functions ... OK * checking foreign function calls ... OK * checking R code for possible problems ... OK * checking Rd files ... OK * checking Rd cross-references ... OK * checking for missing documentation entries ... OK * checking for code/documentation mismatches ... OK * checking Rd \usage sections ... OK * creating flowUtils-Ex.R ... OK * checking examples ... OK * creating flowUtils-manual.tex ... OK * checking flowUtils-manual.tex ... OK
flowUtils.Rcheck/00install.out:
* Installing *source* package 'flowUtils' ...
** R
** inst
** help
>>> Building/Updating help pages for package 'flowUtils'
Formats: text html latex example
flowUtil-package text html latex example
read.gatingML text html latex example
** building package indices ...
* DONE (flowUtils)