Back to the "Multiple platform build/check report"
| Package 70/234 | Hostname | OS | Arch | BUILD | CHECK | BUILD BIN |
flowQ0.2.3N. Le MeurLast Changed Date: 2007-04-04 17:34:24 -0700 Last Changed Rev: 23625 | lamb1 | Linux (SUSE 10.1) | x86_64 | OK | WARNINGS | |
| wellington | Linux (SUSE 9.2) | i686 | OK | WARNINGS | ||
| churchill | Solaris 2.9 | sparc | OK | WARNINGS | ||
| lemming | Windows Server 2003 (32-bit) | x64 | OK | WARNINGS | [ OK ] |
| Package: flowQ |
| Version: 0.2.3 |
| Command: D:\biocbld\bbs-2.1-bioc\R\bin\R.exe CMD INSTALL --build --library=flowQ.buildbin-libdir flowQ_0.2.3.tar.gz |
| RetCode: 0 |
| Time: 7.0 seconds |
| Status: OK |
| PackageFile: flowQ_0.2.3.zip |
installing R.css in D:/biocbld/bbs-2.1-bioc/meat/flowQ.buildbin-libdir
Using auto-selected zip options ''
---------- Making package flowQ ------------
adding build stamp to DESCRIPTION
installing NAMESPACE file and metadata
installing R files
installing man source files
installing indices
installing help
>>> Building/Updating help pages for package 'flowQ'
Formats: text html latex example chm
flowQ-package text html latex example chm
outlier-class text html latex example chm
missing link(s): ~~fun~~ CLASSNAME-class
outlierResult-class text html latex example chm
missing link(s): ~~fun~~ CLASSNAME-class
outliers-methods text html latex chm
Microsoft HTML Help Compiler 4.74.8702
Compiling d:\biocbld\bbs-2.1-bioc\meat\R.INSTALL.4384\flowQ\chm\flowQ.chm
Compile time: 0 minutes, 0 seconds
5 Topics
11 Local links
0 Internet links
1 Graphic
Created d:\biocbld\bbs-2.1-bioc\meat\R.INSTALL.4384\flowQ\chm\flowQ.chm, 17,884 bytes
Compression increased file by 4,141 bytes.
adding MD5 sums
packaged installation of package 'flowQ' as flowQ_0.2.3.zip
* DONE (flowQ)