Back to the "Multiple platform build/check report"
| Package 67/234 | Hostname | OS | Arch | BUILD | CHECK | BUILD BIN |
fbat1.1.1Weiliang QiuLast Changed Date: 2007-05-11 21:56:41 -0700 Last Changed Rev: 24616 | lamb1 | Linux (SUSE 10.1) | x86_64 | ERROR | skipped | |
| wellington | Linux (SUSE 9.2) | i686 | [ OK ] | OK | ||
| churchill | Solaris 2.9 | sparc | ERROR | skipped | ||
| lemming | Windows Server 2003 (32-bit) | x64 | OK | OK | OK |
| Package: fbat |
| Version: 1.1.1 |
| Command: /loc/biocbuild/bbs-2.1-bioc/R/bin/R CMD build fbat |
| RetCode: 0 |
| Time: 26.8 seconds |
| Status: OK |
| PackageFile: fbat_1.1.1.tar.gz |
* checking for file 'fbat/DESCRIPTION' ... OK
* preparing 'fbat':
* checking DESCRIPTION meta-information ... OK
* cleaning src
* installing the package to re-build vignettes
* Installing *source* package 'fbat' ...
** libs
gcc -std=gnu99 -I/loc/biocbuild/bbs-2.1-bioc/R/include -I/loc/biocbuild/bbs-2.1-bioc/R/include -I/usr/local/include -fpic -g -O2 -Wall -c FBAT.c -o FBAT.o
FBAT.c: In function `countLines':
FBAT.c:2142: warning: `tmpnc2' might be used uninitialized in this function
FBAT.c: In function `oneNuclearFamily':
FBAT.c:1859: warning: `sex1' might be used uninitialized in this function
FBAT.c:1859: warning: `sex2' might be used uninitialized in this function
FBAT.c: In function `decomposePed':
FBAT.c:1986: warning: `i' might be used uninitialized in this function
FBAT.c: In function `checkoneNuclearFamily':
FBAT.c:1667: warning: `sex1' might be used uninitialized in this function
FBAT.c:1667: warning: `sex2' might be used uninitialized in this function
FBAT.c: In function `checkdecomposePed':
FBAT.c:1590: warning: `i' might be used uninitialized in this function
FBAT.c: In function `checkCompatible':
FBAT.c:1404: warning: `start2' might be used uninitialized in this function
FBAT.c: In function `fbat':
FBAT.c:43: warning: `start2' might be used uninitialized in this function
g77 -fpic -g -O2 -Wall -c missGFreq.f -o missGFreq.o
gcc -std=gnu99 -I/loc/biocbuild/bbs-2.1-bioc/R/include -I/loc/biocbuild/bbs-2.1-bioc/R/include -I/usr/local/include -fpic -g -O2 -Wall -c register.c -o register.o
gcc -std=gnu99 -shared -L/usr/local/lib -o fbat.so FBAT.o missGFreq.o register.o -lg2c -lm -L/loc/biocbuild/bbs-2.1-bioc/R/lib -lR
** R
** data
** inst
** preparing package for lazy loading
Loading required package: MASS
Loading required package: GeneticsBase
Loading required package: combinat
Attaching package: 'combinat'
The following object(s) are masked from package:utils :
combn
Loading required package: xtable
Loading required package: mvtnorm
** help
>>> Building/Updating help pages for package 'fbat'
Formats: text html latex example
CAMP text html latex example
checkMarkers text html latex example
checkMendelian text html latex example
fbat text html latex example
geneSet2Ped text html latex example
missGFreq text html latex example
pedAFreq text html latex example
pedFlagHomo text html latex example
pedGFreq text html latex example
pedHardyWeinberg text html latex example
summaryPvalue text html latex example
viewFlagHomo text html latex example
viewHW text html latex example
viewstat text html latex example
** building package indices ...
Loading required package: methods
Loading required package: combinat
Attaching package: 'combinat'
The following object(s) are masked from package:utils :
combn
Loading required package: xtable
Loading required package: mvtnorm
* DONE (fbat)
* creating vignettes ... OK
* cleaning src
* removing junk files
* checking for LF line-endings in source files
* checking for empty or unneeded directories
* building 'fbat_1.1.1.tar.gz'