Back to the "Multiple platform build/check report"
| Package 10/234 | Hostname | OS | Arch | BUILD | CHECK | BUILD BIN |
affylmGUI1.11.0Keith SatterleyLast Changed Date: 2007-05-21 01:26:23 -0700 Last Changed Rev: 24870 | lamb1 | Linux (SUSE 10.1) | x86_64 | OK | OK | |
| wellington | Linux (SUSE 9.2) | i686 | OK | OK | ||
| churchill | Solaris 2.9 | sparc | OK | OK | ||
| lemming | Windows Server 2003 (32-bit) | x64 | [ OK ] | OK | OK |
| Package: affylmGUI |
| Version: 1.11.0 |
| Command: D:\biocbld\bbs-2.1-bioc\R\bin\R.exe CMD build affylmGUI |
| RetCode: 0 |
| Time: 19.5 seconds |
| Status: OK |
| PackageFile: affylmGUI_1.11.0.tar.gz |
* checking for file 'affylmGUI/DESCRIPTION' ... OK
* preparing 'affylmGUI':
* checking DESCRIPTION meta-information ... OK
* checking whether 'INDEX' is up-to-date ... NO
* use '--force' to overwrite the existing 'INDEX'
* installing the package to re-build vignettes
installing R.css in D:/biocbld/bbs-2.1-bioc/tmpdir/Rinst357205859
---------- Making package affylmGUI ------------
adding build stamp to DESCRIPTION
installing R files
installing inst files
installing man source files
installing indices
installing help
>>> Building/Updating help pages for package 'affylmGUI'
Formats: text html latex example chm
ALGchangeLog text html latex chm
affylmGUI text html latex chm
Microsoft HTML Help Compiler 4.74.8702
Compiling d:\biocbld\bbs-2.1-bioc\meat\affylmGUI\chm\affylmGUI.chm
Compile time: 0 minutes, 0 seconds
3 Topics
111 Local links
0 Internet links
1 Graphic
Created d:\biocbld\bbs-2.1-bioc\meat\affylmGUI\chm\affylmGUI.chm, 25,032 bytes
Compression decreased file by 28,840 bytes.
preparing package affylmGUI for lazy loading
Loading required package: limma
Loading required package: tcltk
Loading Tcl/Tk interface ... done
Loading required package: affy
Loading required package: Biobase
Loading required package: tools
Welcome to Bioconductor
Vignettes contain introductory material. To view, type
'openVignette()'. To cite Bioconductor, see
'citation("Biobase")' and for packages 'citation(pkgname)'.
Loading required package: affyio
adding MD5 sums
* DONE (affylmGUI)
* creating vignettes ... OK
* removing junk files
* checking for LF line-endings in source files
* checking for empty or unneeded directories
* building 'affylmGUI_1.11.0.tar.gz'