Back to the "Multiple platform build/check report"
| Package 6/234 | Hostname | OS | Arch | BUILD | CHECK | BUILD BIN |
affy1.15.3Rafael A. IrizarryLast Changed Date: 2007-05-20 19:40:34 -0700 Last Changed Rev: 24866 | lamb1 | Linux (SUSE 10.1) | x86_64 | ERROR | skipped | |
| wellington | Linux (SUSE 9.2) | i686 | ERROR | skipped | ||
| churchill | Solaris 2.9 | sparc | ERROR | skipped | ||
| lemming | Windows Server 2003 (32-bit) | x64 | [ ERROR ] | skipped | skipped |
| Package: affy |
| Version: 1.15.3 |
| Command: D:\biocbld\bbs-2.1-bioc\R\bin\R.exe CMD build affy |
| RetCode: 1 |
| Time: 3.0 seconds |
| Status: ERROR |
| PackageFile: None |
* checking for file 'affy/DESCRIPTION' ... OK
* preparing 'affy':
* checking DESCRIPTION meta-information ... OK
* cleaning src
* installing the package to re-build vignettes
installing R.css in D:/biocbld/bbs-2.1-bioc/tmpdir/Rinst445238177
---------- Making package affy ------------
**********************************************
WARNING: this package has a configure script
It probably needs manual configuration
**********************************************
adding build stamp to DESCRIPTION
making DLL ...
making chipbackground.d from chipbackground.c
making getall_locations.d from getall_locations.c
making mas5calls.d from mas5calls.c
making rma2.d from rma2.c
rma2.c:116:48: preprocessCore_normalization_stubs.c: No such file or directory
make[3]: *** [rma2.d] Error 1
make[2]: *** [srcDynlib] Error 2
make[1]: *** [all] Error 2
make: *** [pkg-affy] Error 2
*** Installation of affy failed ***
Removing 'D:/biocbld/bbs-2.1-bioc/tmpdir/Rinst445238177/affy'
ERROR
Installation failed.
Removing 'D:/biocbld/bbs-2.1-bioc/tmpdir/Rinst445238177'