Back to the "Multiple platform build/check report"
| Package 197/234 | Hostname | OS | Arch | BUILD | CHECK | BUILD BIN |
Ruuid1.15.0Biocore TeamLast Changed Date: 2007-04-24 11:31:42 -0700 Last Changed Rev: 24217 | lamb1 | Linux (SUSE 10.1) | x86_64 | OK | WARNINGS | |
| wellington | Linux (SUSE 9.2) | i686 | OK | WARNINGS | ||
| churchill | Solaris 2.9 | sparc | OK | WARNINGS | ||
| lemming | Windows Server 2003 (32-bit) | x64 | OK | WARNINGS | [ OK ] |
| Package: Ruuid |
| Version: 1.15.0 |
| Command: D:\biocbld\bbs-2.1-bioc\R\bin\R.exe CMD INSTALL --build --library=Ruuid.buildbin-libdir Ruuid_1.15.0.tar.gz |
| RetCode: 0 |
| Time: 13.0 seconds |
| Status: OK |
| PackageFile: Ruuid_1.15.0.zip |
installing R.css in D:/biocbld/bbs-2.1-bioc/meat/Ruuid.buildbin-libdir
Using auto-selected zip options ''
---------- Making package Ruuid ------------
**********************************************
WARNING: this package has a configure script
It probably needs manual configuration
**********************************************
adding build stamp to DESCRIPTION
installing NAMESPACE file and metadata
running src/Makefile.win ...
gcc -ID:/biocbld/bbs-2.1-bioc/R/src/include -O2 -DWin32 -c Ruuid.c -o Ruuid.o
Ruuid.c: In function `UUID2uuidt':
Ruuid.c:33: warning: passing arg 2 of `uuid_pack' from incompatible pointer type
gcc -ID:/biocbld/bbs-2.1-bioc/R/src/include -O2 -DWin32 -c pack.c -o pack.o
gcc -ID:/biocbld/bbs-2.1-bioc/R/src/include -O2 -DWin32 -c parse.c -o parse.o
gcc -ID:/biocbld/bbs-2.1-bioc/R/src/include -O2 -DWin32 -c Rinit.c -o Rinit.o
gcc -ID:/biocbld/bbs-2.1-bioc/R/src/include -O2 -DWin32 -c unpack.c -o unpack.o
gcc -ID:/biocbld/bbs-2.1-bioc/R/src/include -O2 -DWin32 -c unparse.c -o unparse.o
rm -f -f Ruuid.a
ar cr Ruuid.a *.o
ranlib Ruuid.a
gcc -shared -o Ruuid.dll Ruuid.def Ruuid.a -LD:/biocbld/bbs-2.1-bioc/R/bin -lrpcrt4 -lg2c -lRblas -lR
... done
installing DLL
installing R files
installing inst files
installing man source files
installing indices
installing help
>>> Building/Updating help pages for package 'Ruuid'
Formats: text html latex example chm
Ruuid-class text html latex example chm
getuuid text html latex example chm
uuidt-class text html latex example chm
Microsoft HTML Help Compiler 4.74.8702
Compiling d:\biocbld\bbs-2.1-bioc\meat\R.INSTALL.4360\Ruuid\chm\Ruuid.chm
Compile time: 0 minutes, 0 seconds
4 Topics
24 Local links
3 Internet links
1 Graphic
Created d:\biocbld\bbs-2.1-bioc\meat\R.INSTALL.4360\Ruuid\chm\Ruuid.chm, 18,592 bytes
Compression increased file by 2,118 bytes.
preparing package Ruuid for lazy loading
adding MD5 sums
packaged installation of package 'Ruuid' as Ruuid_1.15.0.zip
* DONE (Ruuid)