Back to the "Multiple platform build/check report"
| Package 184/234 | Hostname | OS | Arch | BUILD | CHECK | BUILD BIN | 
| Resourcerer1.11.0Jianhua ZhangLast Changed Date: 2007-04-24 11:31:42 -0700 Last Changed Rev: 24217 | lamb1 | Linux (SUSE 10.1) | x86_64 | OK | WARNINGS | |
| wellington | Linux (SUSE 9.2) | i686 | OK | OK | ||
| churchill | Solaris 2.9 | sparc | ERROR | skipped | ||
| lemming | Windows Server 2003 (32-bit) | x64 | OK | [ OK ] | OK | 
| Package: Resourcerer | 
| Version: 1.11.0 | 
| Command: D:\biocbld\bbs-2.1-bioc\R\bin\R.exe CMD check Resourcerer_1.11.0.tar.gz | 
| RetCode: 0 | 
| Time: 119.3 seconds | 
| Status: OK | 
| CheckDir: Resourcerer.Rcheck | 
| Warnings: 0 | 
* checking for working latex ... OK * using log directory 'D:/biocbld/bbs-2.1-bioc/meat/Resourcerer.Rcheck' * using R version 2.6.0 Under development (unstable) (2007-04-17 r41210) * checking for file 'Resourcerer/DESCRIPTION' ... OK * this is package 'Resourcerer' version '1.11.0' * checking package dependencies ... OK * checking if this is a source package ... OK * checking whether package 'Resourcerer' can be installed ... OK * checking package directory ... OK * checking for portable file names ... OK * checking DESCRIPTION meta-information ... OK * checking top-level files ... OK * checking index information ... OK * checking package subdirectories ... OK * checking R files for non-ASCII characters ... OK * checking R files for syntax errors ... OK * checking whether the package can be loaded ... OK * checking whether the package can be loaded with stated dependencies ... OK * checking whether the name space can be loaded with stated dependencies ... OK * checking for unstated dependencies in R code ... OK * checking S3 generic/method consistency ... OK * checking replacement functions ... OK * checking foreign function calls ... OK * checking R code for possible problems ... OK * checking Rd files ... OK * checking Rd cross-references ... OK * checking for missing documentation entries ... OK * checking for code/documentation mismatches ... OK * checking Rd \usage sections ... OK * creating Resourcerer-Ex.R ... OK * checking examples ... OK * checking package vignettes in 'inst/doc' ... OK * creating Resourcerer-manual.tex ... OK * checking Resourcerer-manual.tex ... OK
Resourcerer.Rcheck/00install.out:
installing R.css in D:/biocbld/bbs-2.1-bioc/meat/Resourcerer.Rcheck
---------- Making package Resourcerer ------------
  adding build stamp to DESCRIPTION
  installing NAMESPACE file and metadata
  installing R files
  installing inst files
  installing man source files
  installing indices
  installing help
 >>> Building/Updating help pages for package 'Resourcerer'
     Formats: text html latex example chm 
  getRsourcerer                     text    html    latex   example chm
  resourcerer2BioC                  text    html    latex   example chm
Microsoft HTML Help Compiler 4.74.8702
Compiling d:\biocbld\bbs-2.1-bioc\meat\Resourcerer.Rcheck\00_pkg_src\Resourcerer\chm\Resourcerer.chm
Compile time: 0 minutes, 0 seconds
3	Topics
6	Local links
2	Internet links
1	Graphic
Created d:\biocbld\bbs-2.1-bioc\meat\Resourcerer.Rcheck\00_pkg_src\Resourcerer\chm\Resourcerer.chm, 20,118 bytes
Compression increased file by 4,963 bytes.
  preparing package Resourcerer for lazy loading
Loading required package: Biobase
Loading required package: tools
Welcome to Bioconductor
  Vignettes contain introductory material. To view, type
  'openVignette()'. To cite Bioconductor, see
  'citation("Biobase")' and for packages 'citation(pkgname)'.
Loading required package: AnnBuilder
Loading required package: XML
Loading required package: annotate
Loading required package: AnnotationDbi
Loading required package: DBI
Loading required package: RSQLite
  adding MD5 sums
* DONE (Resourcerer)