Back to the "Multiple platform build/check report"
| Package 196/234 | Hostname | OS | Arch | BUILD | CHECK | BUILD BIN | 
| RSNPper1.11.0VJ CareyLast Changed Date: 2007-04-24 11:31:42 -0700 Last Changed Rev: 24217 | lamb1 | Linux (SUSE 10.1) | x86_64 | OK | OK | |
| wellington | Linux (SUSE 9.2) | i686 | [ OK ] | OK | ||
| churchill | Solaris 2.9 | sparc | ERROR | skipped | ||
| lemming | Windows Server 2003 (32-bit) | x64 | OK | OK | OK | 
| Package: RSNPper | 
| Version: 1.11.0 | 
| Command: /loc/biocbuild/bbs-2.1-bioc/R/bin/R CMD build RSNPper | 
| RetCode: 0 | 
| Time: 92.6 seconds | 
| Status: OK | 
| PackageFile: RSNPper_1.11.0.tar.gz | 
* checking for file 'RSNPper/DESCRIPTION' ... OK
* preparing 'RSNPper':
* checking DESCRIPTION meta-information ... OK
* installing the package to re-build vignettes
* Installing *source* package 'RSNPper' ...
** R
** inst
** help
 >>> Building/Updating help pages for package 'RSNPper'
     Formats: text html latex example 
  SNPperMeta-class                  text    html    latex   example
  geneInfo                          text    html    latex   example
** building package indices ...
* DONE (RSNPper)
* creating vignettes ... OK
* removing junk files
* checking for LF line-endings in source files
* checking for empty or unneeded directories
* building 'RSNPper_1.11.0.tar.gz'