Back to the "Multiple platform build/check report"
| Package 194/234 | Hostname | OS | Arch | BUILD | CHECK | BUILD BIN |
RPostgreSQL0.0.0M. DalphinLast Changed Date: 2007-01-08 18:28:57 -0800 Last Changed Rev: 21881 | lamb1 | Linux (SUSE 10.1) | x86_64 | OK | WARNINGS | |
| wellington | Linux (SUSE 9.2) | i686 | OK | WARNINGS | ||
| churchill | Solaris 2.9 | sparc | OK | WARNINGS | ||
| lemming | Windows Server 2003 (32-bit) | x64 | OK | WARNINGS | [ OK ] |
| Package: RPostgreSQL |
| Version: 0.0.0 |
| Command: D:\biocbld\bbs-2.1-bioc\R\bin\R.exe CMD INSTALL --build --library=RPostgreSQL.buildbin-libdir RPostgreSQL_0.0.0.tar.gz |
| RetCode: 0 |
| Time: 8.0 seconds |
| Status: OK |
| PackageFile: RPostgreSQL_0.0.0.zip |
installing R.css in D:/biocbld/bbs-2.1-bioc/meat/RPostgreSQL.buildbin-libdir
Using auto-selected zip options ''
---------- Making package RPostgreSQL ------------
adding build stamp to DESCRIPTION
no R files in this package
installing inst files
no man files in this package
installing indices
installing help
>>> Building/Updating help pages for package 'RPostgreSQL'
Formats: text html latex example chm
Microsoft HTML Help Compiler 4.74.8702
Compiling d:\biocbld\bbs-2.1-bioc\meat\R.INSTALL.2756\RPostgreSQL\chm\RPostgreSQL.chm
Compile time: 0 minutes, 0 seconds
1 Topic
0 Local links
0 Internet links
1 Graphic
Created d:\biocbld\bbs-2.1-bioc\meat\R.INSTALL.2756\RPostgreSQL\chm\RPostgreSQL.chm, 14,442 bytes
Compression increased file by 9,764 bytes.
adding MD5 sums
packaged installation of package 'RPostgreSQL' as RPostgreSQL_0.0.0.zip
* DONE (RPostgreSQL)