Back to the "Multiple platform build/check report"
| Package 193/234 | Hostname | OS | Arch | BUILD | CHECK | BUILD BIN |
ROC1.11.0Vince CareyLast Changed Date: 2007-05-11 21:56:41 -0700 Last Changed Rev: 24616 | lamb1 | Linux (SUSE 10.1) | x86_64 | OK | OK | |
| wellington | Linux (SUSE 9.2) | i686 | OK | OK | ||
| churchill | Solaris 2.9 | sparc | OK | OK | ||
| lemming | Windows Server 2003 (32-bit) | x64 | OK | OK | [ OK ] |
| Package: ROC |
| Version: 1.11.0 |
| Command: D:\biocbld\bbs-2.1-bioc\R\bin\R.exe CMD INSTALL --build --library=ROC.buildbin-libdir ROC_1.11.0.tar.gz |
| RetCode: 0 |
| Time: 11.0 seconds |
| Status: OK |
| PackageFile: ROC_1.11.0.zip |
installing R.css in D:/biocbld/bbs-2.1-bioc/meat/ROC.buildbin-libdir
Using auto-selected zip options ''
---------- Making package ROC ------------
adding build stamp to DESCRIPTION
installing NAMESPACE file and metadata
making DLL ...
making ROC.d from ROC.cc
g++ -ID:/biocbld/bbs-2.1-bioc/R/include -Wall -O2 -c ROC.cc -o ROC.o
windres -I D:/biocbld/bbs-2.1-bioc/R/include -i ROC_res.rc -o ROC_res.o
g++ -shared -s -o ROC.dll ROC.def ROC.o ROC_res.o -LD:/biocbld/bbs-2.1-bioc/R/bin -lR
... DLL made
installing DLL
installing R files
installing inst files
installing man source files
installing indices
installing help
>>> Building/Updating help pages for package 'ROC'
Formats: text html latex example chm
AUC text html latex example chm
plot-methods text html latex example chm
rocc-class text html latex example chm
rocdemo.sca text html latex example chm
trapezint text html latex example chm
Microsoft HTML Help Compiler 4.74.8702
Compiling d:\biocbld\bbs-2.1-bioc\meat\R.INSTALL.3364\ROC\chm\ROC.chm
Compile time: 0 minutes, 0 seconds
6 Topics
16 Local links
0 Internet links
1 Graphic
Created d:\biocbld\bbs-2.1-bioc\meat\R.INSTALL.3364\ROC\chm\ROC.chm, 20,876 bytes
Compression increased file by 2,269 bytes.
preparing package ROC for lazy loading
adding MD5 sums
packaged installation of package 'ROC' as ROC_1.11.0.zip
* DONE (ROC)