Back to the "Multiple platform build/check report"
| Package 192/234 | Hostname | OS | Arch | BUILD | CHECK | BUILD BIN |
RMAPPER1.7.0VJ CareyLast Changed Date: 2007-04-24 11:31:42 -0700 Last Changed Rev: 24217 | lamb1 | Linux (SUSE 10.1) | x86_64 | OK | OK | |
| wellington | Linux (SUSE 9.2) | i686 | OK | OK | ||
| churchill | Solaris 2.9 | sparc | OK | OK | ||
| lemming | Windows Server 2003 (32-bit) | x64 | OK | OK | [ OK ] |
| Package: RMAPPER |
| Version: 1.7.0 |
| Command: D:\biocbld\bbs-2.1-bioc\R\bin\R.exe CMD INSTALL --build --library=RMAPPER.buildbin-libdir RMAPPER_1.7.0.tar.gz |
| RetCode: 0 |
| Time: 9.0 seconds |
| Status: OK |
| PackageFile: RMAPPER_1.7.0.zip |
installing R.css in D:/biocbld/bbs-2.1-bioc/meat/RMAPPER.buildbin-libdir
Using auto-selected zip options ''
---------- Making package RMAPPER ------------
adding build stamp to DESCRIPTION
installing R files
installing inst files
installing man source files
installing indices
installing help
>>> Building/Updating help pages for package 'RMAPPER'
Formats: text html latex example chm
mapperHits-class text html latex example chm
readMapper text html latex example chm
Microsoft HTML Help Compiler 4.74.8702
Compiling d:\biocbld\bbs-2.1-bioc\meat\R.INSTALL.2908\RMAPPER\chm\RMAPPER.chm
Compile time: 0 minutes, 0 seconds
3 Topics
10 Local links
1 Internet link
1 Graphic
Created d:\biocbld\bbs-2.1-bioc\meat\R.INSTALL.2908\RMAPPER\chm\RMAPPER.chm, 19,586 bytes
Compression increased file by 6,382 bytes.
adding MD5 sums
packaged installation of package 'RMAPPER' as RMAPPER_1.7.0.zip
* DONE (RMAPPER)