Back to the "Multiple platform build/check report"
| Package 92/234 | Hostname | OS | Arch | BUILD | CHECK | BUILD BIN |
GlobalAncova3.3.0R. MeisterLast Changed Date: 2007-05-04 05:43:53 -0700 Last Changed Rev: 24506 | lamb1 | Linux (SUSE 10.1) | x86_64 | [ ERROR ] | skipped | |
| wellington | Linux (SUSE 9.2) | i686 | ERROR | skipped | ||
| churchill | Solaris 2.9 | sparc | ERROR | skipped | ||
| lemming | Windows Server 2003 (32-bit) | x64 | ERROR | skipped | skipped |
| Package: GlobalAncova |
| Version: 3.3.0 |
| Command: /home/biocbuild/bbs-2.1-bioc/R/bin/R CMD build GlobalAncova |
| RetCode: 1 |
| Time: 2.6 seconds |
| Status: ERROR |
| PackageFile: None |
* checking for file 'GlobalAncova/DESCRIPTION' ... OK
* preparing 'GlobalAncova':
* checking DESCRIPTION meta-information ... OK
* installing the package to re-build vignettes
* Installing *source* package 'GlobalAncova' ...
** R
** data
** inst
** preparing package for lazy loading
Loading required package: corpcor
Loading required package: globaltest
Loading required package: multtest
Loading required package: Biobase
Loading required package: tools
Welcome to Bioconductor
Vignettes contain introductory material. To view, type
'openVignette()'. To cite Bioconductor, see
'citation("Biobase")' and for packages 'citation(pkgname)'.
Loading required package: survival
Loading required package: splines
Error in importIntoEnv(impenv, impnames, ns, impvars) :
objects 'Secondary', 'Term' are not exported by 'namespace:annotate'
Error: package 'globaltest' could not be loaded
Execution halted
ERROR: lazy loading failed for package 'GlobalAncova'
** Removing '/tmp/Rinst2490727367/GlobalAncova'
ERROR
Installation failed.
Removing '/tmp/Rinst2490727367'