Back to the "Multiple platform build/check report"
| Package 28/234 | Hostname | OS | Arch | BUILD | CHECK | BUILD BIN |
BeadExplorer1.3.0Gareth ElvidgeLast Changed Date: 2007-04-24 11:31:42 -0700 Last Changed Rev: 24217 | lamb1 | Linux (SUSE 10.1) | x86_64 | OK | WARNINGS | |
| wellington | Linux (SUSE 9.2) | i686 | OK | OK | ||
| churchill | Solaris 2.9 | sparc | OK | OK | ||
| lemming | Windows Server 2003 (32-bit) | x64 | [ OK ] | OK | OK |
| Package: BeadExplorer |
| Version: 1.3.0 |
| Command: D:\biocbld\bbs-2.1-bioc\R\bin\R.exe CMD build BeadExplorer |
| RetCode: 0 |
| Time: 2.5 seconds |
| Status: OK |
| PackageFile: BeadExplorer_1.3.0.tar.gz |
* checking for file 'BeadExplorer/DESCRIPTION' ... OK * preparing 'BeadExplorer': * checking DESCRIPTION meta-information ... OK * removing junk files * checking for LF line-endings in source files * checking for empty or unneeded directories * building 'BeadExplorer_1.3.0.tar.gz'