Back to the "Multiple platform build/check report"
| Package 18/234 | Hostname | OS | Arch | BUILD | CHECK | BUILD BIN |
AnnotationDbi0.0.76Biocore TeamLast Changed Date: 2007-05-21 02:20:20 -0700 Last Changed Rev: 24871 | lamb1 | Linux (SUSE 10.1) | x86_64 | OK | ERROR | |
| wellington | Linux (SUSE 9.2) | i686 | OK | ERROR | ||
| churchill | Solaris 2.9 | sparc | OK | ERROR | ||
| lemming | Windows Server 2003 (32-bit) | x64 | OK | ERROR | [ OK ] |
| Package: AnnotationDbi |
| Version: 0.0.76 |
| Command: D:\biocbld\bbs-2.1-bioc\R\bin\R.exe CMD INSTALL --build --library=AnnotationDbi.buildbin-libdir AnnotationDbi_0.0.76.tar.gz |
| RetCode: 0 |
| Time: 12.0 seconds |
| Status: OK |
| PackageFile: AnnotationDbi_0.0.76.zip |
installing R.css in D:/biocbld/bbs-2.1-bioc/meat/AnnotationDbi.buildbin-libdir
Using auto-selected zip options ''
---------- Making package AnnotationDbi ------------
adding build stamp to DESCRIPTION
installing NAMESPACE file and metadata
installing R files
installing inst files
installing man source files
installing indices
installing help
>>> Building/Updating help pages for package 'AnnotationDbi'
Formats: text html latex example chm
AnnDbPkgSeed-class text html latex example chm
GONode-class text html latex example chm
makeAnnDbPkg text html latex example chm
Microsoft HTML Help Compiler 4.74.8702
Compiling d:\biocbld\bbs-2.1-bioc\meat\R.INSTALL.5304\AnnotationDbi\chm\AnnotationDbi.chm
Compile time: 0 minutes, 0 seconds
4 Topics
28 Local links
1 Internet link
1 Graphic
Created d:\biocbld\bbs-2.1-bioc\meat\R.INSTALL.5304\AnnotationDbi\chm\AnnotationDbi.chm, 19,552 bytes
Compression increased file by 691 bytes.
preparing package AnnotationDbi for lazy loading
Loading required package: Biobase
Loading required package: tools
Welcome to Bioconductor
Vignettes contain introductory material. To view, type
'openVignette()'. To cite Bioconductor, see
'citation("Biobase")' and for packages 'citation(pkgname)'.
Loading required package: DBI
Loading required package: RSQLite
Creating a new generic function for "ncol" in "AnnotationDbi"
Creating a new generic function for "colnames" in "AnnotationDbi"
Creating a new generic function for "nrow" in "AnnotationDbi"
Creating a new generic function for "head" in "AnnotationDbi"
Creating a new generic function for "tail" in "AnnotationDbi"
Creating a new generic function for "toString" in "AnnotationDbi"
Creating a new generic function for "rev" in "AnnotationDbi"
Creating a new generic function for "ls" in "AnnotationDbi"
Creating a new generic function for "as.list" in "AnnotationDbi"
Creating a new generic function for "mget" in "AnnotationDbi"
Creating a new generic function for "eapply" in "AnnotationDbi"
Creating a new generic function for "get" in "AnnotationDbi"
Creating a new generic function for "exists" in "AnnotationDbi"
Creating a new generic function for "sample" in "AnnotationDbi"
adding MD5 sums
packaged installation of package 'AnnotationDbi' as AnnotationDbi_0.0.76.zip
* DONE (AnnotationDbi)