Back to the "Multiple platform build/check report"
Package 232/234 | Hostname | OS | Arch | BUILD | CHECK | BUILD BIN |
widgetInvoke1.9.1Jeff GentryLast Changed Date: 2007-04-30 10:12:43 -0700 Last Changed Rev: 24389 | lamb1 | Linux (SUSE 10.1) | x86_64 | OK | OK | |
wellington | Linux (SUSE 9.2) | i686 | OK | OK | ||
churchill | Solaris 2.9 | sparc | [ ERROR ] | skipped | ||
lemming | Windows Server 2003 (32-bit) | x64 | N O T S U P P O R T E D |
Package: widgetInvoke |
Version: 1.9.1 |
Command: /loc/biocbuild/bbs-2.1-bioc/R/bin/R CMD build widgetInvoke |
RetCode: 1 |
Time: 4.9 seconds |
Status: ERROR |
PackageFile: None |
* checking for file 'widgetInvoke/DESCRIPTION' ... OK * preparing 'widgetInvoke': * checking DESCRIPTION meta-information ... OK * installing the package to re-build vignettes * Installing *source* package 'widgetInvoke' ... ** R ** inst ** save image Loading required package: XML Error: package 'XML' could not be loaded In addition: Warning message: there is no package called 'XML' in: library(pkg, character.only = TRUE, logical = TRUE, lib.loc = lib.loc) Execution halted ERROR: execution of package source for 'widgetInvoke' failed ** Removing '/tmp/Rinst1477397939/widgetInvoke' ERROR Installation failed. Removing '/tmp/Rinst1477397939'