Back to the "Multiple platform build/check report"
| Package 230/234 | Hostname | OS | Arch | BUILD | CHECK | BUILD BIN |
weaver1.3.0Seth FalconLast Changed Date: 2007-04-24 11:31:42 -0700 Last Changed Rev: 24217 | lamb1 | Linux (SUSE 10.1) | x86_64 | OK | OK | |
| wellington | Linux (SUSE 9.2) | i686 | OK | OK | ||
| churchill | Solaris 2.9 | sparc | [ OK ] | OK | ||
| lemming | Windows Server 2003 (32-bit) | x64 | OK | OK | OK |
| Package: weaver |
| Version: 1.3.0 |
| Command: /loc/biocbuild/bbs-2.1-bioc/R/bin/R CMD build weaver |
| RetCode: 0 |
| Time: 19.7 seconds |
| Status: OK |
| PackageFile: weaver_1.3.0.tar.gz |
* checking for file 'weaver/DESCRIPTION' ... OK
* preparing 'weaver':
* checking DESCRIPTION meta-information ... OK
* installing the package to re-build vignettes
* Installing *source* package 'weaver' ...
** R
** inst
** preparing package for lazy loading
Loading required package: digest
Loading required package: tools
Loading required package: codetools
** help
>>> Building/Updating help pages for package 'weaver'
Formats: text html latex example
internal text html latex
weaver text html latex example
** building package indices ...
* DONE (weaver)
* creating vignettes ... OK
* removing junk files
* checking for LF line-endings in source files
* checking for empty or unneeded directories
* building 'weaver_1.3.0.tar.gz'