Back to the "Multiple platform build/check report"
| Package 218/234 | Hostname | OS | Arch | BUILD | CHECK | BUILD BIN | 
| spotSegmentation1.11.0Chris FraleyLast Changed Date: 2007-04-24 11:31:42 -0700 Last Changed Rev: 24217 | lamb1 | Linux (SUSE 10.1) | x86_64 | OK | OK | |
| wellington | Linux (SUSE 9.2) | i686 | OK | OK | ||
| churchill | Solaris 2.9 | sparc | OK | OK | ||
| lemming | Windows Server 2003 (32-bit) | x64 | OK | [ OK ] | OK | 
| Package: spotSegmentation | 
| Version: 1.11.0 | 
| Command: D:\biocbld\bbs-2.1-bioc\R\bin\R.exe CMD check spotSegmentation_1.11.0.tar.gz | 
| RetCode: 0 | 
| Time: 69.5 seconds | 
| Status: OK | 
| CheckDir: spotSegmentation.Rcheck | 
| Warnings: 0 | 
* checking for working latex ... OK * using log directory 'D:/biocbld/bbs-2.1-bioc/meat/spotSegmentation.Rcheck' * using R version 2.6.0 Under development (unstable) (2007-04-17 r41210) * checking for file 'spotSegmentation/DESCRIPTION' ... OK * this is package 'spotSegmentation' version '1.11.0' * checking package dependencies ... OK * checking if this is a source package ... OK * checking whether package 'spotSegmentation' can be installed ... OK * checking package directory ... OK * checking for portable file names ... OK * checking DESCRIPTION meta-information ... OK * checking top-level files ... OK * checking index information ... OK * checking package subdirectories ... OK * checking R files for non-ASCII characters ... OK * checking R files for syntax errors ... OK * checking whether the package can be loaded ... OK * checking whether the package can be loaded with stated dependencies ... OK * checking for unstated dependencies in R code ... OK * checking S3 generic/method consistency ... OK * checking replacement functions ... OK * checking foreign function calls ... OK * checking R code for possible problems ... OK * checking Rd files ... OK * checking Rd cross-references ... OK * checking for missing documentation entries ... OK * checking for code/documentation mismatches ... OK * checking Rd \usage sections ... OK * checking data for non-ASCII characters ... OK * creating spotSegmentation-Ex.R ... OK * checking examples ... OK * creating spotSegmentation-manual.tex ... OK * checking spotSegmentation-manual.tex ... OK
spotSegmentation.Rcheck/00install.out:
installing R.css in D:/biocbld/bbs-2.1-bioc/meat/spotSegmentation.Rcheck
---------- Making package spotSegmentation ------------
  adding build stamp to DESCRIPTION
  installing R files
  installing inst files
  installing data files
  installing man source files
  installing indices
  not zipping data
  installing help
 >>> Building/Updating help pages for package 'spotSegmentation'
     Formats: text html latex example chm 
  plot.spotseg                      text    html    latex   example chm
  plotBlockImage                    text    html    latex   example chm
  spotSegTest                       text    html    latex           chm
  spotgrid                          text    html    latex   example chm
  spotseg                           text    html    latex   example chm
  summary.spotseg                   text    html    latex   example chm
Microsoft HTML Help Compiler 4.74.8702
Compiling d:\biocbld\bbs-2.1-bioc\meat\spotSegmentation.Rcheck\00_pkg_src\spotSegmentation\chm\spotSegmentation.chm
Compile time: 0 minutes, 0 seconds
7	Topics
19	Local links
1	Internet link
1	Graphic
Created d:\biocbld\bbs-2.1-bioc\meat\spotSegmentation.Rcheck\00_pkg_src\spotSegmentation\chm\spotSegmentation.chm, 24,075 bytes
Compression decreased file by 760 bytes.
  adding MD5 sums
* DONE (spotSegmentation)