Back to the "Multiple platform build/check report"
| Package 206/234 | Hostname | OS | Arch | BUILD | CHECK | BUILD BIN |
seqLogo1.3.0Oliver BembomLast Changed Date: 2007-04-24 11:31:42 -0700 Last Changed Rev: 24217 | lamb1 | Linux (SUSE 10.1) | x86_64 | OK | OK | |
| wellington | Linux (SUSE 9.2) | i686 | OK | OK | ||
| churchill | Solaris 2.9 | sparc | OK | OK | ||
| lemming | Windows Server 2003 (32-bit) | x64 | OK | [ OK ] | OK |
| Package: seqLogo |
| Version: 1.3.0 |
| Command: D:\biocbld\bbs-2.1-bioc\R\bin\R.exe CMD check seqLogo_1.3.0.tar.gz |
| RetCode: 0 |
| Time: 38.5 seconds |
| Status: OK |
| CheckDir: seqLogo.Rcheck |
| Warnings: 0 |
* checking for working latex ... OK * using log directory 'D:/biocbld/bbs-2.1-bioc/meat/seqLogo.Rcheck' * using R version 2.6.0 Under development (unstable) (2007-04-17 r41210) * checking for file 'seqLogo/DESCRIPTION' ... OK * this is package 'seqLogo' version '1.3.0' * checking package dependencies ... OK * checking if this is a source package ... OK * checking whether package 'seqLogo' can be installed ... OK * checking package directory ... OK * checking for portable file names ... OK * checking DESCRIPTION meta-information ... OK * checking top-level files ... OK * checking index information ... OK * checking package subdirectories ... OK * checking R files for non-ASCII characters ... OK * checking R files for syntax errors ... OK * checking whether the package can be loaded ... OK * checking whether the package can be loaded with stated dependencies ... OK * checking whether the name space can be loaded with stated dependencies ... OK * checking for unstated dependencies in R code ... OK * checking S3 generic/method consistency ... OK * checking replacement functions ... OK * checking foreign function calls ... OK * checking R code for possible problems ... OK * checking Rd files ... OK * checking Rd cross-references ... OK * checking for missing documentation entries ... OK * checking for code/documentation mismatches ... OK * checking Rd \usage sections ... OK * creating seqLogo-Ex.R ... OK * checking examples ... OK * checking package vignettes in 'inst/doc' ... OK * creating seqLogo-manual.tex ... OK * checking seqLogo-manual.tex ... OK
seqLogo.Rcheck/00install.out:
installing R.css in D:/biocbld/bbs-2.1-bioc/meat/seqLogo.Rcheck
---------- Making package seqLogo ------------
adding build stamp to DESCRIPTION
installing NAMESPACE file and metadata
installing R files
installing inst files
installing man source files
installing indices
installing help
>>> Building/Updating help pages for package 'seqLogo'
Formats: text html latex example chm
makePWM text html latex example chm
pwm-class text html latex example chm
seqLogo text html latex example chm
Microsoft HTML Help Compiler 4.74.8702
Compiling d:\biocbld\bbs-2.1-bioc\meat\seqLogo.Rcheck\00_pkg_src\seqLogo\chm\seqLogo.chm
Compile time: 0 minutes, 0 seconds
4 Topics
10 Local links
0 Internet links
1 Graphic
Created d:\biocbld\bbs-2.1-bioc\meat\seqLogo.Rcheck\00_pkg_src\seqLogo\chm\seqLogo.chm, 18,058 bytes
Compression increased file by 5,235 bytes.
preparing package seqLogo for lazy loading
Loading required package: grid
Creating a new generic function for "plot" in "seqLogo"
Creating a new generic function for "summary" in "seqLogo"
Creating a new generic function for "print" in "seqLogo"
adding MD5 sums
* DONE (seqLogo)