Back to the "Multiple platform build/check report"
| Package 159/234 | Hostname | OS | Arch | BUILD | CHECK | BUILD BIN |
pcot21.5.0Sarah SongLast Changed Date: 2007-04-24 11:31:42 -0700 Last Changed Rev: 24217 | lamb1 | Linux (SUSE 10.1) | x86_64 | OK | OK | |
| wellington | Linux (SUSE 9.2) | i686 | OK | OK | ||
| churchill | Solaris 2.9 | sparc | OK | OK | ||
| lemming | Windows Server 2003 (32-bit) | x64 | OK | OK | [ OK ] |
| Package: pcot2 |
| Version: 1.5.0 |
| Command: D:\biocbld\bbs-2.1-bioc\R\bin\R.exe CMD INSTALL --build --library=pcot2.BUILDBINinstdir pcot2_1.5.0.tar.gz |
| RetCode: 0 |
| Time: 9.0 seconds |
| Status: OK |
| PackageFile: pcot2_1.5.0.zip |
installing R.css in D:/biocbld/bbs-2.1-bioc/meat/pcot2.BUILDBINinstdir
Using auto-selected zip options ''
---------- Making package pcot2 ------------
adding build stamp to DESCRIPTION
installing R files
installing inst files
installing man source files
installing indices
installing help
>>> Building/Updating help pages for package 'pcot2'
Formats: text html latex example chm
aveProbe text html latex example chm
corplot text html latex example chm
corplot2 text html latex example chm
getImat text html latex example chm
pcot2-internal text html latex chm
pcot2 text html latex example chm
Microsoft HTML Help Compiler 4.74.8702
Compiling d:\biocbld\bbs-2.1-bioc\meat\R.INSTALL.552\pcot2\chm\pcot2.chm
Compile time: 0 minutes, 0 seconds
7 Topics
27 Local links
0 Internet links
1 Graphic
Created d:\biocbld\bbs-2.1-bioc\meat\R.INSTALL.552\pcot2\chm\pcot2.chm, 26,040 bytes
Compression decreased file by 4,505 bytes.
adding MD5 sums
packaged installation of package 'pcot2' as pcot2_1.5.0.zip
* DONE (pcot2)