Back to the "Multiple platform build/check report"
| Package 158/234 | Hostname | OS | Arch | BUILD | CHECK | BUILD BIN | 
| pcaMethods1.13.0Wolfram StackliesLast Changed Date: 2007-04-24 11:31:42 -0700 Last Changed Rev: 24217 | lamb1 | Linux (SUSE 10.1) | x86_64 | OK | OK | |
| wellington | Linux (SUSE 9.2) | i686 | OK | OK | ||
| churchill | Solaris 2.9 | sparc | OK | ERROR | ||
| lemming | Windows Server 2003 (32-bit) | x64 | OK | OK | [ OK ] | 
| Package: pcaMethods | 
| Version: 1.13.0 | 
| Command: D:\biocbld\bbs-2.1-bioc\R\bin\R.exe CMD INSTALL --build --library=pcaMethods.BUILDBINinstdir pcaMethods_1.13.0.tar.gz | 
| RetCode: 0 | 
| Time: 15.0 seconds | 
| Status: OK | 
| PackageFile: pcaMethods_1.13.0.zip | 
installing R.css in D:/biocbld/bbs-2.1-bioc/meat/pcaMethods.BUILDBINinstdir
Using auto-selected zip options ' pcaMethods-HELP=ziponly'
---------- Making package pcaMethods ------------
  adding build stamp to DESCRIPTION
  installing NAMESPACE file and metadata
  installing R files
  save image
Loading required package: MASS
Loading required package: pls
Attaching package: 'pls'
	The following object(s) are masked from package:stats :
	 loadings 
Creating a new generic function for "print" in "pcaMethods"
Creating a new generic function for "summary" in "pcaMethods"
Creating a new generic function for "fitted" in "pcaMethods"
  installing inst files
  installing data files
  installing man source files
  installing indices
  not zipping data
  installing help
 >>> Building/Updating help pages for package 'pcaMethods'
     Formats: text html latex example chm 
  Q2                                text    html    latex   example chm
  asExprSet                         text    html    latex           chm
  bpca                              text    html    latex   example chm
  checkData                         text    html    latex           chm
  class.nlpcaNet                    text    html    latex           chm
  class.nniRes                      text    html    latex           chm
  class.pcaRes                      text    html    latex           chm
  fitted.pcaRes                     text    html    latex           chm
  helix                             text    html    latex           chm
  kEstimate                         text    html    latex   example chm
  kEstimateFast                     text    html    latex   example chm
  llsImpute                         text    html    latex   example chm
  metaboliteData                    text    html    latex           chm
  metaboliteDataComplete            text    html    latex           chm
  nipalsPca                         text    html    latex   example chm
  nlpca                             text    html    latex   example chm
  nni                               text    html    latex   example chm
  pca                               text    html    latex   example chm
  plotPcs                           text    html    latex   example chm
  plotR2                            text    html    latex           chm
  ppca                              text    html    latex   example chm
  prep                              text    html    latex   example chm
  robustPca                         text    html    latex   example chm
  robustSvd                         text    html    latex   example chm
  slplot                            text    html    latex   example chm
  svdImpute                         text    html    latex   example chm
  svdPca                            text    html    latex   example chm
  zipping help files
Microsoft HTML Help Compiler 4.74.8702
Compiling d:\biocbld\bbs-2.1-bioc\meat\R.INSTALL.3892\pcaMethods\chm\pcaMethods.chm
Compile time: 0 minutes, 0 seconds
28	Topics
107	Local links
3	Internet links
1	Graphic
Created d:\biocbld\bbs-2.1-bioc\meat\R.INSTALL.3892\pcaMethods\chm\pcaMethods.chm, 65,689 bytes
Compression decreased file by 53,770 bytes.
  adding MD5 sums
packaged installation of package 'pcaMethods' as pcaMethods_1.13.0.zip
* DONE (pcaMethods)