Back to the "Multiple platform build/check report"
| Package 145/234 | Hostname | OS | Arch | BUILD | CHECK | BUILD BIN | 
| nudge1.5.1N. DeanLast Changed Date: 2007-04-19 15:27:45 -0700 Last Changed Rev: 24052 | lamb1 | Linux (SUSE 10.1) | x86_64 | [ OK ] | ERROR | |
| wellington | Linux (SUSE 9.2) | i686 | OK | ERROR | ||
| churchill | Solaris 2.9 | sparc | OK | ERROR | ||
| lemming | Windows Server 2003 (32-bit) | x64 | OK | OK | OK | 
| Package: nudge | 
| Version: 1.5.1 | 
| Command: /home/biocbuild/bbs-2.1-bioc/R/bin/R CMD build nudge | 
| RetCode: 0 | 
| Time: 11.5 seconds | 
| Status: OK | 
| PackageFile: nudge_1.5.1.tar.gz | 
* checking for file 'nudge/DESCRIPTION' ... OK
* preparing 'nudge':
* checking DESCRIPTION meta-information ... OK
* installing the package to re-build vignettes
* Installing *source* package 'nudge' ...
** R
** data
** inst
** help
 >>> Building/Updating help pages for package 'nudge'
     Formats: text html latex example 
  hiv                               text    html    latex
  like                              text    html    latex
  neg.contr                         text    html    latex
  norm1a                            text    html    latex   example
  norm1b                            text    html    latex   example
  norm1c                            text    html    latex   example
  norm1d                            text    html    latex   example
  norm2c                            text    html    latex   example
  norm2d                            text    html    latex   example
  nudge1                            text    html    latex   example
  nudge2                            text    html    latex   example
  pos.contr                         text    html    latex
** building package indices ...
* DONE (nudge)
* creating vignettes ... OK
* removing junk files
* checking for LF line-endings in source files
* checking for empty or unneeded directories
* building 'nudge_1.5.1.tar.gz'