Back to the "Multiple platform build/check report"
| Package 136/234 | Hostname | OS | Arch | BUILD | CHECK | BUILD BIN |
metaArray1.11.0Hyungwon ChoiLast Changed Date: 2007-04-24 11:31:42 -0700 Last Changed Rev: 24217 | lamb1 | Linux (SUSE 10.1) | x86_64 | OK | OK | |
| wellington | Linux (SUSE 9.2) | i686 | [ OK ] | OK | ||
| churchill | Solaris 2.9 | sparc | OK | OK | ||
| lemming | Windows Server 2003 (32-bit) | x64 | OK | OK | OK |
| Package: metaArray |
| Version: 1.11.0 |
| Command: /loc/biocbuild/bbs-2.1-bioc/R/bin/R CMD build metaArray |
| RetCode: 0 |
| Time: 23.9 seconds |
| Status: OK |
| PackageFile: metaArray_1.11.0.tar.gz |
* checking for file 'metaArray/DESCRIPTION' ... OK
* preparing 'metaArray':
* checking DESCRIPTION meta-information ... OK
* cleaning src
* installing the package to re-build vignettes
* Installing *source* package 'metaArray' ...
** libs
gcc -std=gnu99 -I/loc/biocbuild/bbs-2.1-bioc/R/include -I/loc/biocbuild/bbs-2.1-bioc/R/include -I/usr/local/include -DUSEDOUBLE -fpic -g -O2 -Wall -c contr.c -o contr.o
gcc -std=gnu99 -I/loc/biocbuild/bbs-2.1-bioc/R/include -I/loc/biocbuild/bbs-2.1-bioc/R/include -I/usr/local/include -DUSEDOUBLE -fpic -g -O2 -Wall -c dproc2.c -o dproc2.o
gcc -std=gnu99 -I/loc/biocbuild/bbs-2.1-bioc/R/include -I/loc/biocbuild/bbs-2.1-bioc/R/include -I/usr/local/include -DUSEDOUBLE -fpic -g -O2 -Wall -c dproc.c -o dproc.o
gcc -std=gnu99 -I/loc/biocbuild/bbs-2.1-bioc/R/include -I/loc/biocbuild/bbs-2.1-bioc/R/include -I/usr/local/include -DUSEDOUBLE -fpic -g -O2 -Wall -c intcor.c -o intcor.o
gcc -std=gnu99 -I/loc/biocbuild/bbs-2.1-bioc/R/include -I/loc/biocbuild/bbs-2.1-bioc/R/include -I/usr/local/include -DUSEDOUBLE -fpic -g -O2 -Wall -c lowess.c -o lowess.o
gcc -std=gnu99 -I/loc/biocbuild/bbs-2.1-bioc/R/include -I/loc/biocbuild/bbs-2.1-bioc/R/include -I/usr/local/include -DUSEDOUBLE -fpic -g -O2 -Wall -c mmath.c -o mmath.o
gcc -std=gnu99 -I/loc/biocbuild/bbs-2.1-bioc/R/include -I/loc/biocbuild/bbs-2.1-bioc/R/include -I/usr/local/include -DUSEDOUBLE -fpic -g -O2 -Wall -c perm.c -o perm.o
gcc -std=gnu99 -I/loc/biocbuild/bbs-2.1-bioc/R/include -I/loc/biocbuild/bbs-2.1-bioc/R/include -I/usr/local/include -DUSEDOUBLE -fpic -g -O2 -Wall -c poe.c -o poe.o
poe.c: In function `poe_one_iter':
poe.c:431: warning: suggest parentheses around comparison in operand of &
poe.c:437: warning: suggest parentheses around comparison in operand of &
poe.c:438: warning: suggest parentheses around comparison in operand of |
gcc -std=gnu99 -shared -L/usr/local/lib -o metaArray.so contr.o dproc2.o dproc.o intcor.o lowess.o mmath.o perm.o poe.o -lm -L/loc/biocbuild/bbs-2.1-bioc/R/lib -lR
** R
** data
** inst
** help
>>> Building/Updating help pages for package 'metaArray'
Formats: text html latex example
Zscore text html latex example
em.draw text html latex example
find.init text html latex example
fit.em text html latex example
intcor text html latex example
logit text html latex
mdata text html latex
poe.em text html latex example
poe.mcmc text html latex example
** building package indices ...
* DONE (metaArray)
* creating vignettes ... OK
* cleaning src
* removing junk files
* excluding invalid files from 'metaArray'
Subdirectory 'man' contains invalid file names:
pkg.log README
* checking for LF line-endings in source files
* checking for empty or unneeded directories
* building 'metaArray_1.11.0.tar.gz'