Back to the "Multiple platform build/check report"
| Package 112/234 | Hostname | OS | Arch | BUILD | CHECK | BUILD BIN |
lapmix1.3.0Yann RuffieuxLast Changed Date: 2007-04-24 11:31:42 -0700 Last Changed Rev: 24217 | lamb1 | Linux (SUSE 10.1) | x86_64 | OK | [ OK ] | |
| wellington | Linux (SUSE 9.2) | i686 | OK | OK | ||
| churchill | Solaris 2.9 | sparc | OK | OK | ||
| lemming | Windows Server 2003 (32-bit) | x64 | OK | OK | OK |
| Package: lapmix |
| Version: 1.3.0 |
| Command: /home/biocbuild/bbs-2.1-bioc/R/bin/R CMD check lapmix_1.3.0.tar.gz |
| RetCode: 0 |
| Time: 13.5 seconds |
| Status: OK |
| CheckDir: lapmix.Rcheck |
| Warnings: 0 |
* checking for working latex ... OK * using log directory '/home/biocbuild/bbs-2.1-bioc/meat/lapmix.Rcheck' * using R version 2.6.0 Under development (unstable) (2007-04-17 r41210) * checking for file 'lapmix/DESCRIPTION' ... OK * this is package 'lapmix' version '1.3.0' * checking package dependencies ... OK * checking if this is a source package ... OK * checking whether package 'lapmix' can be installed ... OK * checking package directory ... OK * checking for portable file names ... OK * checking for sufficient/correct file permissions ... OK * checking DESCRIPTION meta-information ... OK * checking top-level files ... OK * checking index information ... OK * checking package subdirectories ... OK * checking R files for non-ASCII characters ... OK * checking R files for syntax errors ... OK * checking whether the package can be loaded ... OK * checking whether the package can be loaded with stated dependencies ... OK * checking for unstated dependencies in R code ... OK * checking S3 generic/method consistency ... OK * checking replacement functions ... OK * checking foreign function calls ... OK * checking R code for possible problems ... OK * checking Rd files ... OK * checking Rd cross-references ... OK * checking for missing documentation entries ... OK * checking for code/documentation mismatches ... OK * checking Rd \usage sections ... OK * creating lapmix-Ex.R ... OK * checking examples ... OK * checking package vignettes in 'inst/doc' ... OK * creating lapmix-manual.tex ... OK * checking lapmix-manual.tex ... OK
lapmix.Rcheck/00install.out:
* Installing *source* package 'lapmix' ...
** R
** inst
** help
>>> Building/Updating help pages for package 'lapmix'
Formats: text html latex example
lap.volcanoplot text html latex example
lapmix-internal text html latex
lapmix.Fit text html latex example
laptopTable text html latex example
** building package indices ...
* DONE (lapmix)