Back to the "Multiple platform build/check report"
| Package 73/234 | Hostname | OS | Arch | BUILD | CHECK | BUILD BIN | 
| gaggle1.5.0Paul ShannonLast Changed Date: 2007-04-24 12:49:14 -0700 Last Changed Rev: 24221 | lamb1 | Linux (SUSE 10.1) | x86_64 | OK | OK | |
| wellington | Linux (SUSE 9.2) | i686 | OK | OK | ||
| churchill | Solaris 2.9 | sparc | [ OK ] | ERROR | ||
| lemming | Windows Server 2003 (32-bit) | x64 | OK | OK | OK | 
| Package: gaggle | 
| Version: 1.5.0 | 
| Command: /loc/biocbuild/bbs-2.1-bioc/R/bin/R CMD build gaggle | 
| RetCode: 0 | 
| Time: 11.2 seconds | 
| Status: OK | 
| PackageFile: gaggle_1.5.0.tar.gz | 
* checking for file 'gaggle/DESCRIPTION' ... OK
* preparing 'gaggle':
* checking DESCRIPTION meta-information ... OK
* installing the package to re-build vignettes
* Installing *source* package 'gaggle' ...
** R
** inst
** help
 >>> Building/Updating help pages for package 'gaggle'
     Formats: text html latex example 
  broadcast                         text    html    latex
  gaggleInit                        text    html    latex
  geese                             text    html    latex
  getCluster                        text    html    latex
  getHashMap                        text    html    latex
  getMatrix                         text    html    latex
  getNameList                       text    html    latex
  getNetwork                        text    html    latex
  getSpecies                        text    html    latex
  getTargetGoose                    text    html    latex
  hideGoose                         text    html    latex
  setSpecies                        text    html    latex
  setTargetGoose                    text    html    latex
  showGoose                         text    html    latex
  testGagglePackage                 text    html    latex
** building package indices ...
* DONE (gaggle)
* creating vignettes ... OK
* removing junk files
* checking for LF line-endings in source files
* checking for empty or unneeded directories
* building 'gaggle_1.5.0.tar.gz'