Back to the "Multiple platform build/check report"
| Package 50/234 | Hostname | OS | Arch | BUILD | CHECK | BUILD BIN | 
copa1.5.0James W. MacDonaldLast Changed Date: 2007-04-24 11:31:42 -0700 Last Changed Rev: 24217  | lamb1 | Linux (SUSE 10.1) | x86_64 | OK | OK | |
| wellington | Linux (SUSE 9.2) | i686 | OK | OK | ||
| churchill | Solaris 2.9 | sparc | OK | OK | ||
| lemming | Windows Server 2003 (32-bit) | x64 | OK | OK | [ OK ] | 
| Package: copa | 
| Version: 1.5.0 | 
| Command: D:\biocbld\bbs-2.1-bioc\R\bin\R.exe CMD INSTALL --build --library=copa.BUILDBINinstdir copa_1.5.0.tar.gz | 
| RetCode: 0 | 
| Time: 11.0 seconds | 
| Status: OK | 
| PackageFile: copa_1.5.0.zip | 
installing R.css in D:/biocbld/bbs-2.1-bioc/meat/copa.BUILDBINinstdir
Using auto-selected zip options ''
---------- Making package copa ------------
  adding build stamp to DESCRIPTION
  installing NAMESPACE file and metadata
  making DLL ...
making copa.d from copa.c
gcc   -ID:/biocbld/bbs-2.1-bioc/R/include  -Wall -O3 -std=gnu99   -c copa.c -o copa.o
windres -I D:/biocbld/bbs-2.1-bioc/R/include  -i copa_res.rc -o copa_res.o
gcc  -shared -s  -o copa.dll copa.def copa.o copa_res.o  -LD:/biocbld/bbs-2.1-bioc/R/bin    -lR
  ... DLL made
  installing DLL
  installing R files
  installing inst files
  installing man source files
  installing indices
  installing help
 >>> Building/Updating help pages for package 'copa'
     Formats: text html latex example chm 
  copa                              text    html    latex   example chm
  copa.package                      text    html    latex           chm
  copaFilter                        text    html    latex           chm
  copaPerm                          text    html    latex           chm
  copaTable                         text    html    latex   example chm
  getans                            text    html    latex           chm
  pSum                              text    html    latex           chm
  perm.mat                          text    html    latex           chm
  plotCopa                          text    html    latex   example chm
  scatterPlotCopa                   text    html    latex   example chm
  summaryCopa                       text    html    latex   example chm
Microsoft HTML Help Compiler 4.74.8702
Compiling d:\biocbld\bbs-2.1-bioc\meat\R.INSTALL.2900\copa\chm\copa.chm
Compile time: 0 minutes, 0 seconds
12	Topics
18	Local links
0	Internet links
1	Graphic
Created d:\biocbld\bbs-2.1-bioc\meat\R.INSTALL.2900\copa\chm\copa.chm, 29,483 bytes
Compression decreased file by 8,020 bytes.
  preparing package copa for lazy loading
Loading required package: Biobase
Loading required package: tools
Welcome to Bioconductor
  Vignettes contain introductory material. To view, type
  'openVignette()'. To cite Bioconductor, see
  'citation("Biobase")' and for packages 'citation(pkgname)'.
  adding MD5 sums
packaged installation of package 'copa' as copa_1.5.0.zip
* DONE (copa)