Back to the "Multiple platform build/check report"
| Package 46/234 | Hostname | OS | Arch | BUILD | CHECK | BUILD BIN |
clusterStab1.9.0James W. MacDonaldLast Changed Date: 2007-04-24 11:31:42 -0700 Last Changed Rev: 24217 | lamb1 | Linux (SUSE 10.1) | x86_64 | OK | OK | |
| wellington | Linux (SUSE 9.2) | i686 | OK | OK | ||
| churchill | Solaris 2.9 | sparc | [ OK ] | OK | ||
| lemming | Windows Server 2003 (32-bit) | x64 | OK | OK | OK |
| Package: clusterStab |
| Version: 1.9.0 |
| Command: /loc/biocbuild/bbs-2.1-bioc/R/bin/R CMD build clusterStab |
| RetCode: 0 |
| Time: 50.8 seconds |
| Status: OK |
| PackageFile: clusterStab_1.9.0.tar.gz |
* checking for file 'clusterStab/DESCRIPTION' ... OK
* preparing 'clusterStab':
* checking DESCRIPTION meta-information ... OK
* installing the package to re-build vignettes
* Installing *source* package 'clusterStab' ...
** R
** inst
** save image
Loading required package: Biobase
Loading required package: tools
Welcome to Bioconductor
Vignettes contain introductory material. To view, type
'openVignette()'. To cite Bioconductor, see
'citation("Biobase")' and for packages 'citation(pkgname)'.
[1] "benhur"
[1] "clusterComp"
[1] "benhur"
[1] "clusterComp"
[1] "show"
[1] "hist"
[1] "ecdf"
[1] "benhur"
[1] "benhur"
[1] "benhur"
[1] "show"
[1] "hist"
[1] "ecdf"
[1] "clusterComp"
[1] "clusterComp"
[1] "clusterComp"
[1] "show"
** preparing package for lazy loading
Loading required package: Biobase
Loading required package: tools
Welcome to Bioconductor
Vignettes contain introductory material. To view, type
'openVignette()'. To cite Bioconductor, see
'citation("Biobase")' and for packages 'citation(pkgname)'.
** help
>>> Building/Updating help pages for package 'clusterStab'
Formats: text html latex example
benhur-class text html latex
benhur text html latex example
clusterComp-class text html latex
clusterComp text html latex example
** building package indices ...
* DONE (clusterStab)
* creating vignettes ... OK
* removing junk files
* checking for LF line-endings in source files
* checking for empty or unneeded directories
* building 'clusterStab_1.9.0.tar.gz'