Back to the "Multiple platform build/check report"
| Package 32/234 | Hostname | OS | Arch | BUILD | CHECK | BUILD BIN |
biocViews1.5.0Seth FalconLast Changed Date: 2007-04-24 11:31:42 -0700 Last Changed Rev: 24217 | lamb1 | Linux (SUSE 10.1) | x86_64 | OK | OK | |
| wellington | Linux (SUSE 9.2) | i686 | OK | OK | ||
| churchill | Solaris 2.9 | sparc | [ ERROR ] | skipped | ||
| lemming | Windows Server 2003 (32-bit) | x64 | OK | OK | OK |
| Package: biocViews |
| Version: 1.5.0 |
| Command: /loc/biocbuild/bbs-2.1-bioc/R/bin/R CMD build biocViews |
| RetCode: 1 |
| Time: 7.0 seconds |
| Status: ERROR |
| PackageFile: None |
* checking for file 'biocViews/DESCRIPTION' ... OK * preparing 'biocViews': * checking DESCRIPTION meta-information ... OK * installing the package to re-build vignettes * Installing *source* package 'biocViews' ... ** R ** data ** inst ** preparing package for lazy loading Loading required package: tools Loading required package: graph Loading required package: RBGL Loading required package: XML Warning in library(pkg, character.only = TRUE, logical = TRUE, lib.loc = lib.loc) : there is no package called 'XML' Error: package 'XML' could not be loaded Execution halted ERROR: lazy loading failed for package 'biocViews' ** Removing '/tmp/Rinst347038581/biocViews' ERROR Installation failed. Removing '/tmp/Rinst347038581'