Back to the "Multiple platform build/check report"
| Package 33/234 | Hostname | OS | Arch | BUILD | CHECK | BUILD BIN |
bioDist1.9.0Biocore TeamLast Changed Date: 2007-04-24 11:31:42 -0700 Last Changed Rev: 24217 | lamb1 | Linux (SUSE 10.1) | x86_64 | OK | OK | |
| wellington | Linux (SUSE 9.2) | i686 | [ OK ] | OK | ||
| churchill | Solaris 2.9 | sparc | OK | OK | ||
| lemming | Windows Server 2003 (32-bit) | x64 | OK | OK | OK |
| Package: bioDist |
| Version: 1.9.0 |
| Command: /loc/biocbuild/bbs-2.1-bioc/R/bin/R CMD build bioDist |
| RetCode: 0 |
| Time: 2.8 seconds |
| Status: OK |
| PackageFile: bioDist_1.9.0.tar.gz |
* checking for file 'bioDist/DESCRIPTION' ... OK * preparing 'bioDist': * checking DESCRIPTION meta-information ... OK * removing junk files * excluding invalid files from 'bioDist' Subdirectory 'man' contains invalid file names: dens2func.old locf2func.old * checking for LF line-endings in source files * checking for empty or unneeded directories * building 'bioDist_1.9.0.tar.gz'