Back to the "Multiple platform build/check report"
| Package 25/234 | Hostname | OS | Arch | BUILD | CHECK | BUILD BIN |
arrayQuality1.13.0Agnes PaquetLast Changed Date: 2007-04-24 11:31:42 -0700 Last Changed Rev: 24217 | lamb1 | Linux (SUSE 10.1) | x86_64 | OK | OK | |
| wellington | Linux (SUSE 9.2) | i686 | OK | OK | ||
| churchill | Solaris 2.9 | sparc | [ OK ] | OK | ||
| lemming | Windows Server 2003 (32-bit) | x64 | OK | OK | OK |
| Package: arrayQuality |
| Version: 1.13.0 |
| Command: /loc/biocbuild/bbs-2.1-bioc/R/bin/R CMD build arrayQuality |
| RetCode: 0 |
| Time: 32.0 seconds |
| Status: OK |
| PackageFile: arrayQuality_1.13.0.tar.gz |
* checking for file 'arrayQuality/DESCRIPTION' ... OK * preparing 'arrayQuality': * checking DESCRIPTION meta-information ... OK * checking whether 'INDEX' is up-to-date ... NO * use '--force' to overwrite the existing 'INDEX' * removing junk files * checking for LF line-endings in source files * checking for empty or unneeded directories * building 'arrayQuality_1.13.0.tar.gz'