Back to the "Multiple platform build/check report"
| Package 228/234 | Hostname | OS | Arch | BUILD | CHECK | BUILD BIN | 
| TypeInfo1.3.0Duncan Temple LangLast Changed Date: 2007-04-24 11:31:42 -0700 Last Changed Rev: 24217 | lamb1 | Linux (SUSE 10.1) | x86_64 | OK | OK | |
| wellington | Linux (SUSE 9.2) | i686 | OK | OK | ||
| churchill | Solaris 2.9 | sparc | [ OK ] | OK | ||
| lemming | Windows Server 2003 (32-bit) | x64 | OK | OK | OK | 
| Package: TypeInfo | 
| Version: 1.3.0 | 
| Command: /loc/biocbuild/bbs-2.1-bioc/R/bin/R CMD build TypeInfo | 
| RetCode: 0 | 
| Time: 24.3 seconds | 
| Status: OK | 
| PackageFile: TypeInfo_1.3.0.tar.gz | 
* checking for file 'TypeInfo/DESCRIPTION' ... OK
* preparing 'TypeInfo':
* checking DESCRIPTION meta-information ... OK
* installing the package to re-build vignettes
* Installing *source* package 'TypeInfo' ...
** R
** inst
** save image
** preparing package for lazy loading
** help
 >>> Building/Updating help pages for package 'TypeInfo'
     Formats: text html latex example 
  ClassNameOrExpression-class       text    html    latex   example
  DynamicTypeTest-class             text    html    latex   example
  IndependentTypeSpecification-clas text    html    latex   example
  IndependentTypeSpecification      text    html    latex   example
  NamedTypeTest-class               text    html    latex   example
  ReturnTypeSpecification           text    html    latex   example
  SimultaneousTypeSpecification     text    html    latex   example
  TypedSignature-class              text    html    latex   example
  TypedSignature                    text    html    latex   example
  checkArgs                         text    html    latex   example
  checkReturnValue                  text    html    latex   example
  hasParameterType                  text    html    latex   example
  paramNames                        text    html    latex   example
  rewriteTypeCheck                  text    html    latex   example
  showTypeInfo                      text    html    latex   example
  typeInfo                          text    html    latex   example
** building package indices ...
* DONE (TypeInfo)
* creating vignettes ... OK
* removing junk files
* checking for LF line-endings in source files
* checking for empty or unneeded directories
* building 'TypeInfo_1.3.0.tar.gz'