Back to the "Multiple platform build/check report"
| Package 212/234 | Hostname | OS | Arch | BUILD | CHECK | BUILD BIN |
SLqPCR1.3.0Matthias KohlLast Changed Date: 2007-04-24 11:31:42 -0700 Last Changed Rev: 24217 | lamb1 | Linux (SUSE 10.1) | x86_64 | OK | OK | |
| wellington | Linux (SUSE 9.2) | i686 | OK | OK | ||
| churchill | Solaris 2.9 | sparc | [ OK ] | OK | ||
| lemming | Windows Server 2003 (32-bit) | x64 | OK | OK | OK |
| Package: SLqPCR |
| Version: 1.3.0 |
| Command: /loc/biocbuild/bbs-2.1-bioc/R/bin/R CMD build SLqPCR |
| RetCode: 0 |
| Time: 18.4 seconds |
| Status: OK |
| PackageFile: SLqPCR_1.3.0.tar.gz |
* checking for file 'SLqPCR/DESCRIPTION' ... OK
* preparing 'SLqPCR':
* checking DESCRIPTION meta-information ... OK
* installing the package to re-build vignettes
* Installing *source* package 'SLqPCR' ...
** R
** data
** inst
** help
>>> Building/Updating help pages for package 'SLqPCR'
Formats: text html latex example
SLqPCR-package text html latex
SLqPCRdata text html latex example
geneStabM text html latex
geomMean text html latex
normPCR text html latex example
relQuantPCR text html latex
selectHKgenes text html latex example
vandesompele text html latex example
** building package indices ...
* DONE (SLqPCR)
* creating vignettes ... OK
* removing junk files
* checking for LF line-endings in source files
* checking for empty or unneeded directories
* building 'SLqPCR_1.3.0.tar.gz'