Back to the "Multiple platform build/check report"
| Package 189/234 | Hostname | OS | Arch | BUILD | CHECK | BUILD BIN |
Ringo1.1.1J. ToedlingLast Changed Date: 2007-05-02 03:11:46 -0700 Last Changed Rev: 24436 | lamb1 | Linux (SUSE 10.1) | x86_64 | OK | OK | |
| wellington | Linux (SUSE 9.2) | i686 | OK | OK | ||
| churchill | Solaris 2.9 | sparc | OK | OK | ||
| lemming | Windows Server 2003 (32-bit) | x64 | OK | [ OK ] | OK |
| Package: Ringo |
| Version: 1.1.1 |
| Command: D:\biocbld\bbs-2.1-bioc\R\bin\R.exe CMD check Ringo_1.1.1.tar.gz |
| RetCode: 0 |
| Time: 134.4 seconds |
| Status: OK |
| CheckDir: Ringo.Rcheck |
| Warnings: 0 |
* checking for working latex ... OK * using log directory 'D:/biocbld/bbs-2.1-bioc/meat/Ringo.Rcheck' * using R version 2.6.0 Under development (unstable) (2007-04-17 r41210) * checking for file 'Ringo/DESCRIPTION' ... OK * checking extension type ... Package * this is package 'Ringo' version '1.1.1' * checking package dependencies ... OK * checking if this is a source package ... OK * checking whether package 'Ringo' can be installed ... OK * checking package directory ... OK * checking for portable file names ... OK * checking DESCRIPTION meta-information ... OK * checking top-level files ... OK * checking index information ... OK * checking package subdirectories ... OK * checking R files for non-ASCII characters ... OK * checking R files for syntax errors ... OK * checking whether the package can be loaded ... OK * checking whether the package can be loaded with stated dependencies ... OK * checking whether the name space can be loaded with stated dependencies ... OK * checking for unstated dependencies in R code ... OK * checking S3 generic/method consistency ... OK * checking replacement functions ... OK * checking foreign function calls ... OK * checking R code for possible problems ... OK * checking Rd files ... OK * checking Rd cross-references ... OK * checking for missing documentation entries ... OK * checking for code/documentation mismatches ... OK * checking Rd \usage sections ... OK * checking for CRLF line endings in C/C++/Fortran sources/headers ... OK * checking for portable use of $BLAS_LIBS ... OK * creating Ringo-Ex.R ... OK * checking examples ... OK * checking package vignettes in 'inst/doc' ... OK * creating Ringo-manual.tex ... OK * checking Ringo-manual.tex ... OK
Ringo.Rcheck/00install.out:
installing R.css in D:/biocbld/bbs-2.1-bioc/meat/Ringo.Rcheck
---------- Making package Ringo ------------
adding build stamp to DESCRIPTION
installing NAMESPACE file and metadata
making DLL ...
making mmedian.d from mmedian.cpp
g++ -Id:/biocbld/bbs-2.1-bioc/R/include -Wall -O2 -c mmedian.cpp -o mmedian.o
windres -I d:/biocbld/bbs-2.1-bioc/R/include -i Ringo_res.rc -o Ringo_res.o
g++ -shared -s -o Ringo.dll Ringo.def mmedian.o Ringo_res.o -Ld:/biocbld/bbs-2.1-bioc/R/bin -lR
... DLL made
installing DLL
installing R files
save image
Loading required package: Biobase
Loading required package: tools
Welcome to Bioconductor
Vignettes contain introductory material. To view, type
'openVignette()'. To cite Bioconductor, see
'citation("Biobase")' and for packages 'citation(pkgname)'.
Loading required package: geneplotter
Loading required package: annotate
Loading required package: lattice
KernSmooth 2.22 installed
Copyright M. P. Wand 1997
Loading required package: limma
Loading required package: vsn
Loading required package: affy
Loading required package: affyio
Loading required package: RColorBrewer
installing inst files
installing man source files
installing indices
installing help
>>> Building/Updating help pages for package 'Ringo'
Formats: text html latex example chm
Ringo-internal text html latex chm
arrayImage text html latex example chm
asExprSet text html latex example chm
autocorr text html latex example chm
chipAlongChrom text html latex example chm
computeRunningMedians text html latex example chm
corrPlot text html latex example chm
findPeaksOnSmoothed text html latex example chm
ftr2xys text html latex example chm
newPeak text html latex example chm
nimblegenNorm text html latex chm
peakByThreshold text html latex example chm
peakClass text html latex example chm
plotAutocorr text html latex example chm
plot_peak text html latex example chm
preprocess text html latex example chm
readNimblegen text html latex example chm
relatePeaks text html latex example chm
sliding_median text html latex example chm
sliding_quantile text html latex example chm
Microsoft HTML Help Compiler 4.74.8702
Compiling d:\biocbld\bbs-2.1-bioc\meat\Ringo.Rcheck\00_pkg_src\Ringo\chm\Ringo.chm
Compile time: 0 minutes, 0 seconds
21 Topics
71 Local links
0 Internet links
1 Graphic
Created d:\biocbld\bbs-2.1-bioc\meat\Ringo.Rcheck\00_pkg_src\Ringo\chm\Ringo.chm, 46,798 bytes
Compression decreased file by 42,061 bytes.
adding MD5 sums
* DONE (Ringo)