Back to the "Multiple platform build/check report"
| Package 190/234 | Hostname | OS | Arch | BUILD | CHECK | BUILD BIN |
RLMM0.11.0Nusrat RabbeeLast Changed Date: 2007-01-09 17:06:56 -0800 Last Changed Rev: 21912 | lamb1 | Linux (SUSE 10.1) | x86_64 | OK | OK | |
| wellington | Linux (SUSE 9.2) | i686 | OK | OK | ||
| churchill | Solaris 2.9 | sparc | OK | OK | ||
| lemming | Windows Server 2003 (32-bit) | x64 | OK | OK | [ OK ] |
| Package: RLMM |
| Version: 0.11.0 |
| Command: D:\biocbld\bbs-2.1-bioc\R\bin\R.exe CMD INSTALL --build --library=RLMM.BUILDBINinstdir RLMM_0.11.0.tar.gz |
| RetCode: 0 |
| Time: 8.0 seconds |
| Status: OK |
| PackageFile: RLMM_0.11.0.zip |
installing R.css in D:/biocbld/bbs-2.1-bioc/meat/RLMM.BUILDBINinstdir
Using auto-selected zip options ''
---------- Making package RLMM ------------
adding build stamp to DESCRIPTION
installing R files
installing inst files
installing man source files
installing indices
installing help
>>> Building/Updating help pages for package 'RLMM'
Formats: text html latex example chm
Classify text html latex chm
create_Thetafile text html latex chm
normalize_Rawfiles text html latex chm
plot_theta text html latex chm
Microsoft HTML Help Compiler 4.74.8702
Compiling d:\biocbld\bbs-2.1-bioc\meat\R.INSTALL.4952\RLMM\chm\RLMM.chm
Compile time: 0 minutes, 0 seconds
5 Topics
8 Local links
0 Internet links
1 Graphic
Created d:\biocbld\bbs-2.1-bioc\meat\R.INSTALL.4952\RLMM\chm\RLMM.chm, 19,763 bytes
Compression increased file by 5,094 bytes.
adding MD5 sums
packaged installation of package 'RLMM' as RLMM_0.11.0.zip
* DONE (RLMM)