Back to the "Multiple platform build/check report"
Package 81/234 | Hostname | OS | Arch | BUILD | CHECK | BUILD BIN |
GeneRfold0.1.3Antoine LucasLast Changed Date: 2007-01-09 17:06:56 -0800 Last Changed Rev: 21912 | lamb1 | Linux (SUSE 10.1) | x86_64 | OK | OK | |
wellington | Linux (SUSE 9.2) | i686 | ERROR | skipped | ||
churchill | Solaris 2.9 | sparc | ERROR | skipped | ||
lemming | Windows Server 2003 (32-bit) | x64 | [ ERROR ] | skipped | skipped |
Package: GeneRfold |
Version: 0.1.3 |
Command: D:\biocbld\bbs-2.1-bioc\R\bin\R.exe CMD build GeneRfold |
RetCode: 1 |
Time: 3.5 seconds |
Status: ERROR |
PackageFile: None |
* checking for file 'GeneRfold/DESCRIPTION' ... OK * preparing 'GeneRfold': * checking DESCRIPTION meta-information ... OK * cleaning src * checking whether 'INDEX' is up-to-date ... NO * use '--force' to overwrite the existing 'INDEX' * installing the package to re-build vignettes installing R.css in D:/biocbld/bbs-2.1-bioc/tmpdir/Rinst430887652 ---------- Making package GeneRfold ------------ ********************************************** WARNING: this package has a configure script It probably needs manual configuration ********************************************** adding build stamp to DESCRIPTION installing NAMESPACE file and metadata making DLL ... making viennaR.d from viennaR.c viennaR.c:11:28: ViennaRNA/fold.h: No such file or directory viennaR.c:12:33: ViennaRNA/fold_vars.h: No such file or directory viennaR.c:13:30: ViennaRNA/PS_dot.h: No such file or directory make[3]: *** [viennaR.d] Error 1 make[2]: *** [srcDynlib] Error 2 make[1]: *** [all] Error 2 make: *** [pkg-GeneRfold] Error 2 *** Installation of GeneRfold failed *** Removing 'D:/biocbld/bbs-2.1-bioc/tmpdir/Rinst430887652/GeneRfold' ERROR Installation failed. Removing 'D:/biocbld/bbs-2.1-bioc/tmpdir/Rinst430887652'