Back to the "Multiple platform build/check report"
| Package 77/234 | Hostname | OS | Arch | BUILD | CHECK | BUILD BIN |
GeneMeta1.9.0Biocore TeamLast Changed Date: 2007-04-24 11:31:42 -0700 Last Changed Rev: 24217 | lamb1 | Linux (SUSE 10.1) | x86_64 | OK | OK | |
| wellington | Linux (SUSE 9.2) | i686 | OK | OK | ||
| churchill | Solaris 2.9 | sparc | OK | OK | ||
| lemming | Windows Server 2003 (32-bit) | x64 | OK | OK | [ OK ] |
| Package: GeneMeta |
| Version: 1.9.0 |
| Command: D:\biocbld\bbs-2.1-bioc\R\bin\R.exe CMD INSTALL --build --library=GeneMeta.BUILDBINinstdir GeneMeta_1.9.0.tar.gz |
| RetCode: 0 |
| Time: 16.0 seconds |
| Status: OK |
| PackageFile: GeneMeta_1.9.0.zip |
installing R.css in D:/biocbld/bbs-2.1-bioc/meat/GeneMeta.BUILDBINinstdir
Using auto-selected zip options 'GeneMeta-ZIPDATA=zip'
---------- Making package GeneMeta ------------
adding build stamp to DESCRIPTION
installing NAMESPACE file and metadata
installing R files
save image
Loading required package: Biobase
Loading required package: tools
Welcome to Bioconductor
Vignettes contain introductory material. To view, type
'openVignette()'. To cite Bioconductor, see
'citation("Biobase")' and for packages 'citation(pkgname)'.
Loading required package: genefilter
Loading required package: survival
Loading required package: splines
installing inst files
installing data files
installing man source files
installing indices
zipping data
installing help
>>> Building/Updating help pages for package 'GeneMeta'
Formats: text html latex example chm
CountPlot text html latex example chm
Nevins text html latex example chm
dstar text html latex example chm
f.Q text html latex example chm
tau text html latex example chm
zscore text html latex example chm
Microsoft HTML Help Compiler 4.74.8702
Compiling d:\biocbld\bbs-2.1-bioc\meat\R.INSTALL.4736\GeneMeta\chm\GeneMeta.chm
Compile time: 0 minutes, 0 seconds
7 Topics
27 Local links
1 Internet link
1 Graphic
Created d:\biocbld\bbs-2.1-bioc\meat\R.INSTALL.4736\GeneMeta\chm\GeneMeta.chm, 25,225 bytes
Compression decreased file by 2,708 bytes.
adding MD5 sums
packaged installation of package 'GeneMeta' as GeneMeta_1.9.0.zip
* DONE (GeneMeta)